BEGIN:VCALENDAR
VERSION:2.0
PRODID:-//ChamberMaster//Event Calendar 2.0//EN
METHOD:PUBLISH
X-PUBLISHED-TTL:P3D
REFRESH-INTERVAL:P3D
CALSCALE:GREGORIAN
BEGIN:VEVENT
DTSTART:20220801T160000Z
DTEND:20220801T210000Z
X-MICROSOFT-CDO-ALLDAYEVENT:FALSE
SUMMARY:Women's Network Golf Outing 2022
DESCRIPTION:Greater Pittston Chamber of Commerce\n\nWomen's Network Golf Outing 2022\n\nRegistration includes: 9 Holes\, Cart & Fees\, Lunch and Mimosa Bar\, After Golf Social Hour (cash bar)\, and 1 Ticket for Raffle
X-ALT-DESC;FMTTYPE=text/html:<span style="color:#800080\;"><strong><span style="font-family:verdana\;"><span style="font-size:20px\;">Greater Pittston Chamber of Commerce<br />\nWomen&#39\;s Network Golf Outing 2022</span></span></strong></span><br />\n<span style="font-size:16px\;"><span style="letter-spacing:2.4pt\;"><span style="font-family:arial\,sans-serif\;"><span style="font-size:14px\;">Registration includes: 9 Holes\, Cart &amp\; Fees\, Lunch and Mimosa Bar\, After Golf Social Hour (cash bar)\, and 1 Ticket for Raffl</span>e</span></span></span>
LOCATION:Fox Hill Country Club Exeter\, PA
UID:e.2791.3838
SEQUENCE:3
DTSTAMP:20260419T223218Z
URL:https://www.pittstonchamber.org/events/details/women-s-network-golf-outing-2022-3838
END:VEVENT

END:VCALENDAR
