BEGIN:VCALENDAR
VERSION:2.0
PRODID:-//ChamberMaster//Event Calendar 2.0//EN
METHOD:PUBLISH
X-PUBLISHED-TTL:P3D
REFRESH-INTERVAL:P3D
CALSCALE:GREGORIAN
BEGIN:VEVENT
DTSTART:20221110T130000Z
DTEND:20221110T180000Z
X-MICROSOFT-CDO-ALLDAYEVENT:FALSE
SUMMARY:What's the Game Plan?
DESCRIPTION:This family business program is focused on decision making with input from experts and family business owners.
X-ALT-DESC;FMTTYPE=text/html:This family business program is focused on decision making with input from experts and family business owners.
LOCATION:84 West South Street\, Wilkes-Barre\, PA 18766
UID:e.2791.3866
SEQUENCE:3
DTSTAMP:20260419T184746Z
URL:https://www.pittstonchamber.org/events/details/what-s-the-game-plan-3866
END:VEVENT

END:VCALENDAR
