BEGIN:VCALENDAR
VERSION:2.0
PRODID:-//ChamberMaster//Event Calendar 2.0//EN
METHOD:PUBLISH
X-PUBLISHED-TTL:P3D
REFRESH-INTERVAL:P3D
CALSCALE:GREGORIAN
BEGIN:VEVENT
DTSTART:20220720T150000Z
DTEND:20220720T180000Z
X-MICROSOFT-CDO-ALLDAYEVENT:FALSE
SUMMARY:VIP Tour - Geisinger Healthplex in CenterPoint
DESCRIPTION:You're invited to a chamber open house celebrating the new Geisinger Healthplex CenterPoint. \n\nThe event is scheduled for Wednesday\, July 20\,  from 11 a.m. to 2 p.m. Lunch will be provided.\n\n \n\nCentrally located between Scranton and Wilkes-Barre\, the 124\,000-square-foot Geisinger Healthplex CenterPoint will house nine clinical suites providing service in:\n\n	Urology\n	Surgery and endoscopy\n	Bone\, joint and muscle care \n	Physical and occupational therapy\n	Eye care and eyewear\n	Laboratory and imaging\n	ConvenientCare\n	Orthopaedic urgent care\n\n \n\nJuly 20th - 11 a.m. to 2 p.m.\n\n \n\nWe hope to see you there! \n\n \n\nA reminder that masks are required when inside.
X-ALT-DESC;FMTTYPE=text/html:<em><span style="color:black\;"><span style="font-family:lato-lightitalic\;"><span style="font-size:12.0pt\;">You&rsquo\;re invited to</span></span></span></em> <em><span style="font-family:lato-lightitalic\;"><span style="font-size:12.0pt\;">a chamber<span style="color:#3B3838\;"> open house celebrating the new Geisinger Healthplex CenterPoint</span><span style="color:#595959\;">.</span> </span></span></em><br />\n<em><span style="font-family:lato-lightitalic\;"><span style="font-size:12.0pt\;">The event is scheduled for Wednesday\, July 20\, &nbsp\;from 11 a.m. to 2 p.m. Lunch will be provided.</span></span></em><br />\n&nbsp\;<br />\n<strong><span style="color:#404040\;"><span style="font-family:lato-bold\;"><span style="font-size:12.0pt\;">Centrally located between Scranton and Wilkes-Barre\, the 124\,000-square-foot&nbsp\;</span></span></span></strong><strong><span style="color:#404040\;"><span style="font-family:lato-bold\;"><span style="font-size:12.0pt\;">Geisinger Healthplex CenterPoint will house nine clinical suites providing service in:</span></span></span></strong>\n<ul>\n	<li style="color:#404040\;text-autospace:none\;"><strong><span style="font-family:lato-bold\;"><span style="font-size:12.0pt\;">Urology</span></span></strong></li>\n	<li style="color:#404040\;text-autospace:none\;"><strong><span style="font-family:lato-bold\;"><span style="font-size:12.0pt\;">Surgery and endoscopy</span></span></strong></li>\n	<li style="color:#404040\;text-autospace:none\;"><strong><span style="font-family:lato-bold\;"><span style="font-size:12.0pt\;">Bone\, joint and muscle care </span></span></strong></li>\n	<li style="color:#404040\;text-autospace:none\;"><strong><span style="font-family:lato-bold\;"><span style="font-size:12.0pt\;">Physical and occupational therapy</span></span></strong></li>\n	<li style="color:#404040\;text-autospace:none\;"><strong><span style="font-family:lato-bold\;"><span style="font-size:12.0pt\;">Eye care and eyewear</span></span></strong></li>\n	<li style="color:#404040\;text-autospace:none\;"><strong><span style="font-family:lato-bold\;"><span style="font-size:12.0pt\;">Laboratory and imaging</span></span></strong></li>\n	<li style="color:#404040\;text-autospace:none\;"><strong><span style="font-family:lato-bold\;"><span style="font-size:12.0pt\;">ConvenientCare</span></span></strong></li>\n	<li style="color:#404040\;text-autospace:none\;"><strong><span style="font-family:lato-bold\;"><span style="font-size:12.0pt\;">Orthopaedic urgent care</span></span></strong></li>\n</ul>\n&nbsp\;<br />\n<strong><span style="color:#3B3838\;"><span style="font-family:lato-bold\;"><span style="font-size:14.5pt\;">Ju</span></span></span></strong><strong><span style="font-family:lato-bold\;"><span style="font-size:14.5pt\;">ly 20th -&nbsp\;</span></span></strong><strong><span style="font-family:lato-bold\;"><span style="font-size:14.5pt\;">11 a.m.<span style="color:#3B3838\;"> to </span>2 p.m.</span></span></strong><br />\n&nbsp\;<br />\n<em><span style="font-family:lato-italic\;"><span style="font-size:12.0pt\;">We hope to see you there! </span></span></em><br />\n&nbsp\;<br />\n<em><span style="font-family:lato-light\;">A reminder that masks are required when inside.</span></em>
LOCATION:Geisinger Healthplex CenterPoint 1201 Oak Street Pittston\, PA 18640
UID:e.2791.3850
SEQUENCE:3
DTSTAMP:20260420T014139Z
URL:https://www.pittstonchamber.org/events/details/vip-tour-geisinger-healthplex-in-centerpoint-3850
END:VEVENT

END:VCALENDAR
