BEGIN:VCALENDAR
VERSION:2.0
PRODID:-//ChamberMaster//Event Calendar 2.0//EN
METHOD:PUBLISH
X-PUBLISHED-TTL:P3D
REFRESH-INTERVAL:P3D
CALSCALE:GREGORIAN
BEGIN:VEVENT
DTSTART:20220813T140000Z
DTEND:20220813T180000Z
X-MICROSOFT-CDO-ALLDAYEVENT:FALSE
SUMMARY:Ultra Fit Fest: Sponsored by Michelob Ultra and Northeast Eagle Distributors
DESCRIPTION:East Coast's very First ULTRA FIT FEST!\n\nNortheast Eagle Distributors will be hosting Ultra Fit Fest sponsored by Michelob Ultra at Anthracite Fitness Factory on Saturday\, August 13\, 2022!\n\nThe Fit Fest is a 1-day event. The day begins with a variety of workout options offered by area gyms and fitness studios from 10am-12pm inside the building and in the parking lot of Anthracite Fitness Factory.\n\nAfter that\, Eagle Beverage and Michelob Ultra will sponsor a happy hour for participants at The Red Mill with live music\, food and drinks from the Michelob Ultra Brand family from 12-2pm.\n\nTickets will be $30.00 and include a swag bag\, fitness classes\, food and 2 drinks tickets.\n\n\n\nClick here to purchase tickets: https://www.eventbrite.com/e/ultra-fit-fest-registration-322583675457?fbclid=IwAR0_ZmNrKNvIIW7o49fuQU6NzGZjCNdLzwGBGoacP52kBT_YKzgZZyzPKjA
X-ALT-DESC;FMTTYPE=text/html:<div class="kvgmc6g5 cxmmr5t8 oygrvhab hcukyx3x c1et5uql" style="overflow-wrap: break-word\; margin: 0px\; font-family: &quot\;Segoe UI Historic&quot\;\, &quot\;Segoe UI&quot\;\, Helvetica\, Arial\, sans-serif\; color: rgb(5\, 5\, 5)\; font-size: 15px\; background-color: rgb(255\, 255\, 255)\;">East Coast&#39\;s very First ULTRA FIT FEST!</div>\n\n<div class="cxmmr5t8 oygrvhab hcukyx3x c1et5uql o9v6fnle" style="overflow-wrap: break-word\; margin: 0.5em 0px 0px\; font-family: &quot\;Segoe UI Historic&quot\;\, &quot\;Segoe UI&quot\;\, Helvetica\, Arial\, sans-serif\; color: rgb(5\, 5\, 5)\; font-size: 15px\; background-color: rgb(255\, 255\, 255)\;">Northeast Eagle Distributors will be hosting Ultra Fit Fest sponsored by Michelob Ultra at Anthracite Fitness Factory on Saturday\, August 13\, 2022!</div>\n\n<div class="cxmmr5t8 oygrvhab hcukyx3x c1et5uql o9v6fnle" style="overflow-wrap: break-word\; margin: 0.5em 0px 0px\; font-family: &quot\;Segoe UI Historic&quot\;\, &quot\;Segoe UI&quot\;\, Helvetica\, Arial\, sans-serif\; color: rgb(5\, 5\, 5)\; font-size: 15px\; background-color: rgb(255\, 255\, 255)\;">The Fit Fest is a 1-day event. The day begins with a variety of workout options offered by area gyms and fitness studios from 10am-12pm inside the building and in the parking lot of Anthracite Fitness Factory.</div>\n\n<div class="cxmmr5t8 oygrvhab hcukyx3x c1et5uql o9v6fnle" style="overflow-wrap: break-word\; margin: 0.5em 0px 0px\; font-family: &quot\;Segoe UI Historic&quot\;\, &quot\;Segoe UI&quot\;\, Helvetica\, Arial\, sans-serif\; color: rgb(5\, 5\, 5)\; font-size: 15px\; background-color: rgb(255\, 255\, 255)\;">After that\, Eagle Beverage and Michelob Ultra will sponsor a happy hour for participants at The Red Mill with live music\, food and drinks from the Michelob Ultra Brand family from 12-2pm.</div>\n\n<div class="cxmmr5t8 oygrvhab hcukyx3x c1et5uql o9v6fnle" style="overflow-wrap: break-word\; margin: 0.5em 0px 0px\; font-family: &quot\;Segoe UI Historic&quot\;\, &quot\;Segoe UI&quot\;\, Helvetica\, Arial\, sans-serif\; color: rgb(5\, 5\, 5)\; font-size: 15px\; background-color: rgb(255\, 255\, 255)\;">Tickets will be $30.00 and include a swag bag\, fitness classes\, food and 2 drinks tickets.<br />\n<br />\nClick here to purchase tickets:&nbsp\;<a href="https://www.eventbrite.com/e/ultra-fit-fest-registration-322583675457?fbclid=IwAR0_ZmNrKNvIIW7o49fuQU6NzGZjCNdLzwGBGoacP52kBT_YKzgZZyzPKjA">https://www.eventbrite.com/e/ultra-fit-fest-registration-322583675457?fbclid=IwAR0_ZmNrKNvIIW7o49fuQU6NzGZjCNdLzwGBGoacP52kBT_YKzgZZyzPKjA</a><br />\n&nbsp\;</div>\n
LOCATION:Anthracite Fitness Factory 320 South Main Street Pittston\, PA 18640
UID:e.2791.3853
SEQUENCE:3
DTSTAMP:20260419T222526Z
URL:https://www.pittstonchamber.org/events/details/ultra-fit-fest-sponsored-by-michelob-ultra-and-northeast-eagle-distributors-3853
END:VEVENT

END:VCALENDAR
