BEGIN:VCALENDAR
VERSION:2.0
PRODID:-//ChamberMaster//Event Calendar 2.0//EN
METHOD:PUBLISH
X-PUBLISHED-TTL:P3D
REFRESH-INTERVAL:P3D
CALSCALE:GREGORIAN
BEGIN:VEVENT
DTSTART:20260513T170000Z
DTEND:20260513T191500Z
X-MICROSOFT-CDO-ALLDAYEVENT:FALSE
SUMMARY:The Trust Shift: How Great Leaders Build High-Performing
DESCRIPTION:Explore how emotional intelligence and psychological safety influence communication\, decision making\, and accountability. Engage in trust-building exercises that can be used with their teams.\n\nGain tools to build stronger relationship\, foster open dialogue\, and create the conditions for high-performing teams.\n\nRegister here:http://https://fballiance.glueup.com/event/the-trust-shift-how-great-leaders-build-high-performing-teams-174844/ https://fballiance.glueup.com/event/the-trust-shift-how-great-leaders-build-high-performing-teams-174844/
X-ALT-DESC;FMTTYPE=text/html:<p>Explore how emotional intelligence and psychological safety influence communication\, decision making\, and accountability. Engage in trust-building exercises that can be used with their teams.</p>\n\n<p>Gain tools to build stronger relationship\, foster open dialogue\, and create the conditions for high-performing teams.<br />\nRegister here:<a href="http://https://fballiance.glueup.com/event/the-trust-shift-how-great-leaders-build-high-performing-teams-174844/">http://https://fballiance.glueup.com/event/the-trust-shift-how-great-leaders-build-high-performing-teams-174844/</a>&nbsp\;<a href="https://fballiance.glueup.com/event/the-trust-shift-how-great-leaders-build-high-performing-teams-174844/">https://fballiance.glueup.com/event/the-trust-shift-how-great-leaders-build-high-performing-teams-174844/</a></p>\n
LOCATION:84 W. South Street Wilkes-Barre\, PA\, 18701 Wilkes University\, Henry Student Center\, Second Floor.
UID:e.2791.4897
SEQUENCE:3
DTSTAMP:20260420T194509Z
URL:https://www.pittstonchamber.org/events/details/the-trust-shift-how-great-leaders-build-high-performing-4897
END:VEVENT

END:VCALENDAR
