BEGIN:VCALENDAR
VERSION:2.0
PRODID:-//ChamberMaster//Event Calendar 2.0//EN
METHOD:PUBLISH
X-PUBLISHED-TTL:P3D
REFRESH-INTERVAL:P3D
CALSCALE:GREGORIAN
BEGIN:VEVENT
DTSTART:20221007T140000Z
DTEND:20221007T150000Z
X-MICROSOFT-CDO-ALLDAYEVENT:FALSE
SUMMARY:The Benefits Group: Renewal Strategies and Cost-Effective Alternatives for your Group Health Plan
DESCRIPTION:Explore cost-effective options available to you and your business to maximize your employee health benefits and manage your group health plan. \n\n \n\nDo you need help managing the costs of your group health plan?\n\nIs your team growing and do you want to explore other options? \n\nAre you looking for better coverage for your team?\n\n \n\nIf so\, join the webinar on October 7 at 10AM\n\nThe Benefits Group will make it easy for you.\n\n\n\nCLICK HERE TO REGISTER FOR THE WEBINAR
X-ALT-DESC;FMTTYPE=text/html:<div><span style="font-size:18px\;"><span style="color:#000080\;"><strong>Explore cost-effective options available to you and your business to maximize your employee health benefits and manage your group health plan.&nbsp\;</strong></span></span><br />\n&nbsp\;</div>\n\n<div style="text-align: center\;"><span style="color:#0000CD\;"><span style="font-size:16px\;"><strong>Do you need help managing the costs of your group health plan?<br />\nIs your team growing and do you want to explore other options?&nbsp\;<br />\nAre you looking for better coverage for your team?</strong></span></span><br />\n&nbsp\;</div>\n\n<div style="text-align: center\;"><span style="color:#000080\;"><span style="font-size:16px\;"><strong>If so\, join the webinar on October 7 at 10AM<br />\nThe Benefits Group will make it easy for you.</strong></span></span><br />\n<br />\n<strong style="font-family: tahoma\; font-size: 18px\;"><a href="https://us02web.zoom.us/webinar/register/WN_Psm0tkSlRKquiGvQRbIgfg"><span style="background-color: rgb(255\, 255\, 0)\;">CLICK HERE TO REGISTER FOR THE WEBINAR</span></a></strong></div>\n
LOCATION:CLICK HERE TO REGISTER FOR THE WEBINAR
UID:e.2791.3859
SEQUENCE:3
DTSTAMP:20260419T185356Z
URL:https://www.pittstonchamber.org/events/details/the-benefits-group-renewal-strategies-and-cost-effective-alternatives-for-your-group-health-plan-3859
END:VEVENT

END:VCALENDAR
