BEGIN:VCALENDAR
VERSION:2.0
PRODID:-//ChamberMaster//Event Calendar 2.0//EN
METHOD:PUBLISH
X-PUBLISHED-TTL:P3D
REFRESH-INTERVAL:P3D
CALSCALE:GREGORIAN
BEGIN:VEVENT
DTSTART:20221217T170000Z
DTEND:20221217T190000Z
X-MICROSOFT-CDO-ALLDAYEVENT:FALSE
SUMMARY:Swim With Santa
DESCRIPTION:This Holiday season Santa is coming back to the Ymca! Join us for an hour with the wibits and Santa in the pool \, followed by light refreshments in the gym!
X-ALT-DESC;FMTTYPE=text/html:This Holiday season Santa is coming back to the Ymca! Join us for an hour with the wibits and Santa in the pool \, followed by light refreshments in the gym!
LOCATION:The Greater Wyoming Valley Ymca 40 West Northampton Street Wilkes-Barre PA 18701
UID:e.2791.3869
SEQUENCE:3
DTSTAMP:20260419T171754Z
URL:https://www.pittstonchamber.org/events/details/swim-with-santa-3869
END:VEVENT

END:VCALENDAR
