BEGIN:VCALENDAR
VERSION:2.0
PRODID:-//ChamberMaster//Event Calendar 2.0//EN
METHOD:PUBLISH
X-PUBLISHED-TTL:P3D
REFRESH-INTERVAL:P3D
CALSCALE:GREGORIAN
BEGIN:VEVENT
DTSTART:20220630T213000Z
DTEND:20220701T003000Z
X-MICROSOFT-CDO-ALLDAYEVENT:FALSE
SUMMARY:Summer BBQ Mixer
DESCRIPTION:Greater Pittston Chamber of Commerce\n\nSummer BBQ Mixer\n\nThursday\, June 30th\n\n5:30 p.m.   8:3o p.m.\n\nAmerican Grill - Exeter\, PA
X-ALT-DESC;FMTTYPE=text/html:<span style="font-size:24px\;"><span style="font-family: Garamond\; letter-spacing: -0.5pt\; vertical-align: baseline\;">Greater </span><span style="font-family: Garamond\; letter-spacing: -0.5pt\; vertical-align: baseline\;">Pittston&nbsp\;</span><span style="font-family: Garamond\; letter-spacing: -0.5pt\; vertical-align: baseline\;">Chamber </span><span style="font-family: Garamond\; letter-spacing: -0.5pt\; vertical-align: baseline\;">of Commerce</span><br />\n<span style="font-family: Garamond\; letter-spacing: -0.5pt\; vertical-align: baseline\;">Summer&nbsp\;BBQ Mixer</span><br />\n<span style="font-family: Garamond\; letter-spacing: -0.5pt\; vertical-align: baseline\;">Thursday\, June 30th</span><br />\n<span style="font-family: Garamond\; letter-spacing: -0.5pt\; vertical-align: baseline\;">5:30 p.m. &ndash\; 8:3o p.m.</span><br />\n<span style="font-family: Garamond\; letter-spacing: -0.5pt\; vertical-align: baseline\;">American Grill -&nbsp\;</span><span style="font-family: Garamond\; letter-spacing: -0.5pt\; vertical-align: baseline\;">Exeter\, PA</span></span>
LOCATION:American Grill 1320 Wyoming Avenue Exeter\, PA 18643
UID:e.2791.3846
SEQUENCE:3
DTSTAMP:20260420T013419Z
URL:https://www.pittstonchamber.org/events/details/summer-bbq-mixer-3846
END:VEVENT

END:VCALENDAR
