BEGIN:VCALENDAR
VERSION:2.0
PRODID:-//ChamberMaster//Event Calendar 2.0//EN
METHOD:PUBLISH
X-PUBLISHED-TTL:P3D
REFRESH-INTERVAL:P3D
CALSCALE:GREGORIAN
BEGIN:VEVENT
DTSTART:20220603T170000Z
DTEND:20220603T180000Z
X-MICROSOFT-CDO-ALLDAYEVENT:FALSE
SUMMARY:Skyzone's New Attraction Ribbon Cutting
DESCRIPTION:Join us on Friday\, June 3rd at Skyzone in Pittston to introduce their new attraction!
X-ALT-DESC;FMTTYPE=text/html:Join us on Friday\, June 3rd at Skyzone in Pittston to introduce their new attraction!
LOCATION:SkyZone 195 Enterprise Way - Pittston
UID:e.2791.3842
SEQUENCE:3
DTSTAMP:20260420T033720Z
URL:https://www.pittstonchamber.org/events/details/skyzone-s-new-attraction-ribbon-cutting-3842
END:VEVENT

END:VCALENDAR
