BEGIN:VCALENDAR
VERSION:2.0
PRODID:-//ChamberMaster//Event Calendar 2.0//EN
METHOD:PUBLISH
X-PUBLISHED-TTL:P3D
REFRESH-INTERVAL:P3D
CALSCALE:GREGORIAN
BEGIN:VEVENT
DTSTART:20221001T160000Z
DTEND:20221101T160000Z
X-MICROSOFT-CDO-ALLDAYEVENT:FALSE
SUMMARY:Scranton Wilkes/Barre RailRiders Food Drive
DESCRIPTION:The Scranton/Wilkes-Barre RailRiders are hosting a non-perishable food drive benefitting The Weinberg Northeast Regional Food Bank from October 1 through November 1. As a token of appreciation\, donate a bag of non-perishable food items and receive one ticket voucher redeemable for a regular season 2023 RailRiders game at PNC Field. Limit one voucher per person for the duration of the food drive. To coordinate a drop off\, please contact Krista Lutzick by calling 570-558-4616 or emailing klutzick@swbrailriders.com. Please join us in supporting our friends at The Weinberg Northeast Regional Food Bank.
X-ALT-DESC;FMTTYPE=text/html:The Scranton/Wilkes-Barre RailRiders are hosting a non-perishable food drive benefitting The Weinberg Northeast Regional Food Bank from October 1 through November 1. As a token of appreciation\, donate a bag of non-perishable food items and receive one ticket voucher redeemable for a regular season 2023 RailRiders game at PNC Field. Limit one voucher per person for the duration of the food drive. To coordinate a drop off\, please contact Krista Lutzick by calling 570-558-4616 or emailing klutzick@swbrailriders.com. Please join us in supporting our friends at The Weinberg Northeast Regional Food Bank.
LOCATION:PNC Field 235 Montage Mountain Rd Moosic\, PA 18507
UID:e.2791.3862
SEQUENCE:3
DTSTAMP:20260419T172230Z
URL:https://www.pittstonchamber.org/events/details/scranton-wilkes-barre-railriders-food-drive-3862
END:VEVENT

END:VCALENDAR
