BEGIN:VCALENDAR
VERSION:2.0
PRODID:-//ChamberMaster//Event Calendar 2.0//EN
METHOD:PUBLISH
X-PUBLISHED-TTL:P3D
REFRESH-INTERVAL:P3D
CALSCALE:GREGORIAN
BEGIN:VEVENT
DTSTART:20220709T130000Z
DTEND:20220709T160000Z
X-MICROSOFT-CDO-ALLDAYEVENT:FALSE
SUMMARY:Ride around Pittston
DESCRIPTION:Reserve your spot for The Ride Around Pittston on Saturday\, July 9th starting at 9am! Proceeds benefit WNEP's GO JOE 25 and Saint Joseph's Center 25 min STATIONARY Bike classes 25 mile ROAD Bike Loop (5- 5 mile loops) Food trucks Music Lucca Fresca blending an EXCLUSIVE SMOOTHIE for the 25th anniversary of Go Joe!
X-ALT-DESC;FMTTYPE=text/html:Reserve your spot for The Ride Around Pittston on Saturday\, July 9th starting at 9am! Proceeds benefit WNEP&rsquo\;s GO JOE 25 and Saint Joseph&#39\;s Center 25 min STATIONARY Bike classes 25 mile ROAD Bike Loop (5- 5 mile loops) Food trucks Music Lucca Fresca blending an EXCLUSIVE SMOOTHIE for the 25th anniversary of Go Joe!
LOCATION:Anthracycle Pittston at Anthracite Fitness Factory 320 South Main Street Pittston\, PA 18640
UID:e.2791.3849
SEQUENCE:3
DTSTAMP:20260419T234654Z
URL:https://www.pittstonchamber.org/events/details/ride-around-pittston-3849
END:VEVENT

END:VCALENDAR
