BEGIN:VCALENDAR
VERSION:2.0
PRODID:-//ChamberMaster//Event Calendar 2.0//EN
METHOD:PUBLISH
X-PUBLISHED-TTL:P3D
REFRESH-INTERVAL:P3D
CALSCALE:GREGORIAN
BEGIN:VEVENT
DTSTART:20220510T150000Z
DTEND:20220510T160000Z
X-MICROSOFT-CDO-ALLDAYEVENT:FALSE
SUMMARY:Providing Cost Effective Employee Healthcare Plans
DESCRIPTION:Webinar presented by: The Benefits Group\n\nIf your company is like most others\, employee benefits is likely among your highest expenses. What are you doing to effectively manage it or at least get renewals to be more sustainable? \n\nLearn more how to make sure you know what your real options are when it comes to lower cost\, higher quality group benefits without passing cost down to employees. \n\n Register today to see how you can provide cost effective employee healthcare plans!\n\nClick on Link below to Register: \n\n\n\nhttps://us02web.zoom.us/webinar/register/WN_jYNIcwfmRiyOPVZ4c4mLGQ
X-ALT-DESC;FMTTYPE=text/html:<span style="box-sizing: border-box\; font-weight: 600\; color: rgb(35\, 35\, 51)\; font-family: Lato\, Helvetica\, Arial\; font-size: 14px\; background-color: rgb(255\, 255\, 255)\;"><strong><span style="font-size:22px\;"><span style="font-family:verdana\;">Webinar presented by: The Benefits Group</span></span></strong></span><br />\n<span style="color: rgb(68\, 68\, 68)\; font-family: Georgia\, &quot\;Times New Roman&quot\;\, Times\, serif\; font-size: 19px\; text-align: center\; white-space: pre-wrap\;">If your company is like most others\, employee benefits is likely among your highest expenses. What are you doing to effectively manage it or at least get renewals to be more sustainable? </span><br />\n<span style="color: rgb(68\, 68\, 68)\; font-family: Georgia\, &quot\;Times New Roman&quot\;\, Times\, serif\; font-size: 19px\; text-align: center\; white-space: pre-wrap\;">Learn more how to make sure you know what your real options are when it comes to lower cost\, higher quality group benefits without passing cost down to employees. </span><br />\n<span style="color: rgb(68\, 68\, 68)\; font-family: Georgia\, &quot\;Times New Roman&quot\;\, Times\, serif\; font-size: 23px\; text-align: center\; white-space: pre-wrap\;">&#65279\;</span><span style="color: rgb(68\, 68\, 68)\; font-family: Georgia\, &quot\;Times New Roman&quot\;\, Times\, serif\; font-size: 23px\; text-align: center\; white-space: pre-wrap\;">Register today to see how you can provide cost effective </span><span style="color: rgb(68\, 68\, 68)\; font-family: Georgia\, &quot\;Times New Roman&quot\;\, Times\, serif\; font-size: 23px\; text-align: center\; white-space: pre-wrap\;">employee healthcare plans!</span><br />\n<span style="box-sizing: border-box\; font-weight: 600\; color: rgb(35\, 35\, 51)\; font-family: Lato\, Helvetica\, Arial\; font-size: 14px\; background-color: rgb(255\, 255\, 255)\;">Click on Link below to Register:&nbsp\;</span><br />\n<br />\n<a href="https://us02web.zoom.us/webinar/register/WN_jYNIcwfmRiyOPVZ4c4mLGQ">https://us02web.zoom.us/webinar/register/WN_jYNIcwfmRiyOPVZ4c4mLGQ</a>
LOCATION:ZOOM
UID:e.2791.3825
SEQUENCE:3
DTSTAMP:20260420T052559Z
URL:https://www.pittstonchamber.org/events/details/providing-cost-effective-employee-healthcare-plans-3825
END:VEVENT

END:VCALENDAR
