BEGIN:VCALENDAR
VERSION:2.0
PRODID:-//ChamberMaster//Event Calendar 2.0//EN
METHOD:PUBLISH
X-PUBLISHED-TTL:P3D
REFRESH-INTERVAL:P3D
CALSCALE:GREGORIAN
BEGIN:VEVENT
DTSTART:20220928T180000Z
DTEND:20220928T220000Z
X-MICROSOFT-CDO-ALLDAYEVENT:FALSE
SUMMARY:PowerRail Ribbon Cutting and Open House
DESCRIPTION:Join us to welcome PowerRail to their new home in Exeter!\n\n\n\nMeet the team and tour their new facility \n\nWednesday\, September 28\, 2022\n\nOpen House: 2:00PM - 6:00PM\n\nRibbon Cutting Ceremony: 4:00PM\n\n\n\nCLICK HERE TO RSVP
X-ALT-DESC;FMTTYPE=text/html:<div style="text-align: center\;"><span style="font-size:16px\;"><strong><span style="color:#0000FF\;"><span style="font-size:18px\;">Join us to welcome PowerRail to their new home in Exeter!</span></span><br />\n<br />\nMeet the team and tour their new facility&nbsp\;<br />\nWednesday\, September 28\, 2022<br />\nOpen House: 2:00PM - 6:00PM<br />\nRibbon Cutting Ceremony: 4:00PM<br />\n<br />\n<span style="font-size:20px\;"><a href="https://www.epowerrail.com/Events/PowerRail-Open-House-RSVP?fbclid=IwAR0Cik0jYlqvql1qRxBtB7zI9oKPG4csEnY34vh69AuLK0_Jf2HQ2hePw4w"><span style="background-color:#FFFF00\;">CLICK HERE TO RSVP</span></a></span></strong></span></div>\n<br />\n&nbsp\;
LOCATION:182 Susquehanna Ave\, Exeter\, PA 18643 CLICK HERE TO RSVP
UID:e.2791.3860
SEQUENCE:3
DTSTAMP:20260419T203203Z
URL:https://www.pittstonchamber.org/events/details/powerrail-ribbon-cutting-and-open-house-3860
END:VEVENT

END:VCALENDAR
