BEGIN:VCALENDAR
VERSION:2.0
PRODID:-//ChamberMaster//Event Calendar 2.0//EN
METHOD:PUBLISH
X-PUBLISHED-TTL:P3D
REFRESH-INTERVAL:P3D
CALSCALE:GREGORIAN
BEGIN:VEVENT
DTSTART:20220917T180000Z
DTEND:20220918T000000Z
X-MICROSOFT-CDO-ALLDAYEVENT:FALSE
SUMMARY:Pitch In & Pig Out Cornhole Tournament & Pig Roast
DESCRIPTION:Kickoff the Penn State Wilkes-Barre Athletics season by joining in for a cornhole tournament and pig roast\, hosted at Backwoods Bar & Kitchen in Dallas\, PA! Pitch In & Pig Out: $50/person (includes tournament spot\, pig roast meal voucher\, and t-shirt) Just Pig Out: $25/person (includes pig roast meal voucher) Plus\, fun with the Nittany Lion and a Penn State vs Auburn football watch party! Register by September 2nd by calling 570-675-9259 or visit https://forms.office.com/r/GyCHxnY9k4
X-ALT-DESC;FMTTYPE=text/html:Kickoff the Penn State Wilkes-Barre Athletics season by joining in for a cornhole tournament and pig roast\, hosted at Backwoods Bar &amp\; Kitchen in Dallas\, PA! Pitch In &amp\; Pig Out: $50/person (includes tournament spot\, pig roast meal voucher\, and t-shirt) Just Pig Out: $25/person (includes pig roast meal voucher) Plus\, fun with the Nittany Lion and a Penn State vs Auburn football watch party! Register by September 2nd by calling 570-675-9259 or visit https://forms.office.com/r/GyCHxnY9k4
LOCATION:Backwoods Bar & Kitchen 469 Orange Road Dallas\, PA 18612
UID:e.2791.3854
SEQUENCE:3
DTSTAMP:20260419T222040Z
URL:https://www.pittstonchamber.org/events/details/pitch-in-pig-out-cornhole-tournament-pig-roast-3854
END:VEVENT

END:VCALENDAR
