BEGIN:VCALENDAR
VERSION:2.0
PRODID:-//ChamberMaster//Event Calendar 2.0//EN
METHOD:PUBLISH
X-PUBLISHED-TTL:P3D
REFRESH-INTERVAL:P3D
CALSCALE:GREGORIAN
BEGIN:VEVENT
DTSTART:20221027T213000Z
DTEND:20221028T003000Z
X-MICROSOFT-CDO-ALLDAYEVENT:FALSE
SUMMARY:Northeast Sight Services Annual Awards Dinenr
DESCRIPTION:Please join us for our Annual Awards Dinner - honorees and auction details to be announced soon!
X-ALT-DESC;FMTTYPE=text/html:Please join us for our Annual Awards Dinner - honorees and auction details to be announced soon!
LOCATION:The Woodlands Resort
UID:e.2791.3802
SEQUENCE:3
DTSTAMP:20260419T185023Z
URL:https://www.pittstonchamber.org/events/details/northeast-sight-services-annual-awards-dinenr-3802
END:VEVENT

END:VCALENDAR
