BEGIN:VCALENDAR
VERSION:2.0
PRODID:-//ChamberMaster//Event Calendar 2.0//EN
METHOD:PUBLISH
X-PUBLISHED-TTL:P3D
REFRESH-INTERVAL:P3D
CALSCALE:GREGORIAN
BEGIN:VEVENT
DTSTART:20230119T150000Z
DTEND:20230119T163000Z
X-MICROSOFT-CDO-ALLDAYEVENT:FALSE
SUMMARY:NEPA SHRM Seminar - Diversity\, Equity & Inclusion Webinar
DESCRIPTION:Define the diversity\, equity\, and inclusion journey.  Define unconscious bias and recognize how it is formed.  Recognize your own privilege and how to use privilege as an effective ally.  Learn about inclusive language and how to utilize personal pronouns.  Learn how internal efforts can inform the external perceptions of your organization.  Presented by Gary Abernathy\, Vice President\, Development and Diversity\, Equity\, and Inclusion Practice Leader\, MarshMcLennan Agency
X-ALT-DESC;FMTTYPE=text/html:Define the diversity\, equity\, and inclusion journey.&nbsp\; Define unconscious bias and recognize how it is formed.&nbsp\; Recognize your own privilege and how to use privilege as an effective ally.&nbsp\; Learn about inclusive language and how to utilize personal pronouns.&nbsp\; Learn how internal efforts can inform the external perceptions of your organization.&nbsp\; Presented by Gary Abernathy\, Vice President\, Development and Diversity\, Equity\, and Inclusion Practice Leader\, MarshMcLennan Agency<br />\n&nbsp\;
LOCATION:Webinar
UID:e.2791.3871
SEQUENCE:3
DTSTAMP:20260419T153539Z
URL:https://www.pittstonchamber.org/events/details/nepa-shrm-seminar-diversity-equity-inclusion-webinar-3871
END:VEVENT

END:VCALENDAR
