BEGIN:VCALENDAR
VERSION:2.0
PRODID:-//ChamberMaster//Event Calendar 2.0//EN
METHOD:PUBLISH
X-PUBLISHED-TTL:P3D
REFRESH-INTERVAL:P3D
CALSCALE:GREGORIAN
BEGIN:VEVENT
DTSTART:20230406T123000Z
DTEND:20230406T203000Z
X-MICROSOFT-CDO-ALLDAYEVENT:FALSE
SUMMARY:NEPA SHRM Professional Development Seminar
DESCRIPTION:Join NEPA SHRM at our annual Professional Development seminar on Thursday\, April 6\, 2023 from 8:30 am to 4:30 pm at the East Mountain Inn\, 600 Wildflower Drive\, Wilkes-Barre.  Topics include "Leaders as Coaches\," "Critical Conversations\," "How to Gain a Seat at the Table\," and "The Power of Leading with Awareness."  Approved for 6 SHRM and HRCI recertification credits.  Learn more and register at https://nepashrm.shrm.org/events/2023/04/professional-development-seminar.
X-ALT-DESC;FMTTYPE=text/html:Join NEPA SHRM at our annual Professional Development seminar on Thursday\, April 6\, 2023 from 8:30 am to 4:30 pm at the East Mountain Inn\, 600 Wildflower Drive\, Wilkes-Barre.&nbsp\; Topics include &quot\;Leaders as Coaches\,&quot\; &quot\;Critical Conversations\,&quot\; &quot\;How to Gain a Seat at the Table\,&quot\; and &quot\;The Power of Leading with Awareness.&quot\;&nbsp\; Approved for 6 SHRM and HRCI recertification credits.&nbsp\; Learn more and register at https://nepashrm.shrm.org/events/2023/04/professional-development-seminar.&nbsp\;
LOCATION:East Mountain Inn\, 600 Wildflower Drive\, Wilkes-Barre
UID:e.2791.3908
SEQUENCE:3
DTSTAMP:20260421T124213Z
URL:https://www.pittstonchamber.org/events/details/nepa-shrm-professional-development-seminar-3908
END:VEVENT

END:VCALENDAR
