BEGIN:VCALENDAR
VERSION:2.0
PRODID:-//ChamberMaster//Event Calendar 2.0//EN
METHOD:PUBLISH
X-PUBLISHED-TTL:P3D
REFRESH-INTERVAL:P3D
CALSCALE:GREGORIAN
BEGIN:VEVENT
DTSTART:20220519T160000Z
DTEND:20220519T170000Z
X-MICROSOFT-CDO-ALLDAYEVENT:FALSE
SUMMARY:NEPA SHRM 101 - Pay and Benefits
DESCRIPTION:This course is designed with a specific focus on overtime\, minimum wage\, compensable time\, and legally required benefits.\n\n\n\nRegister Here: \n\nhttps://us02web.zoom.us/webinar/register/WN_M05VzWRCTSWMlDhljXf6ZQ
X-ALT-DESC;FMTTYPE=text/html:This course is designed with a specific focus on overtime\, minimum wage\, compensable time\, and legally required benefits.<br>\n<br>\n<span style="font-size:16px\;">Register Here:&nbsp\;</span><br>\n<span style="font-size:12px\;"><a href="https://us02web.zoom.us/webinar/register/WN_M05VzWRCTSWMlDhljXf6ZQ">https://us02web.zoom.us/webinar/register/WN_M05VzWRCTSWMlDhljXf6ZQ</a>&nbsp\;</span>
LOCATION:Virtual
UID:e.2791.3826
SEQUENCE:3
DTSTAMP:20260420T034517Z
URL:https://www.pittstonchamber.org/events/details/nepa-shrm-101-pay-and-benefits-3826
END:VEVENT

END:VCALENDAR
