BEGIN:VCALENDAR
VERSION:2.0
PRODID:-//ChamberMaster//Event Calendar 2.0//EN
METHOD:PUBLISH
X-PUBLISHED-TTL:P3D
REFRESH-INTERVAL:P3D
CALSCALE:GREGORIAN
BEGIN:VEVENT
DTSTART:20220626T160000Z
DTEND:20220626T210000Z
X-MICROSOFT-CDO-ALLDAYEVENT:FALSE
SUMMARY:NEPA PrideFest 2022
DESCRIPTION:This year's PrideFest will be held on Sunday\, June 26th! The day will begin with our first ever PARADE celebration leading to the main party in Downtown Wilkes Barre! Parade Details: The parade will begin at 12:00 PM. More information about the parade route coming soon! Celebration Details: Our PrideFest Celebration will immediately follow the parade on Public Square in Downtown Wilkes-Barre until 5:00 PM.
X-ALT-DESC;FMTTYPE=text/html:This year&rsquo\;s PrideFest will be held on Sunday\, June 26th! The day will begin with our first ever PARADE celebration leading to the main party in Downtown Wilkes Barre! Parade Details: The parade will begin at 12:00 PM. More information about the parade route coming soon! Celebration Details: Our PrideFest Celebration will immediately follow the parade on Public Square in Downtown Wilkes-Barre until 5:00 PM.
LOCATION:Downtown Wilkes Barre
UID:e.2791.3827
SEQUENCE:3
DTSTAMP:20260420T013512Z
URL:https://www.pittstonchamber.org/events/details/nepa-pridefest-2022-3827
END:VEVENT

END:VCALENDAR
