BEGIN:VCALENDAR
VERSION:2.0
PRODID:-//ChamberMaster//Event Calendar 2.0//EN
METHOD:PUBLISH
X-PUBLISHED-TTL:P3D
REFRESH-INTERVAL:P3D
CALSCALE:GREGORIAN
BEGIN:VEVENT
DTSTART:20220917T220000Z
DTEND:20220918T030000Z
X-MICROSOFT-CDO-ALLDAYEVENT:FALSE
SUMMARY:Little Eric's Big Game Night: Play for a Cure
DESCRIPTION:Little Eric's Big Game Night will be held on September 17\, 2022 at the Holiday Inn Wilkes-Barre - East Mountain!  Join us for a night of casino-themed fun...blackjack\, poker\, craps\, roulette\, and horse racing...as well as door prizes and amazing raffle prizes.  Includes all night open bar and food stations...and a night of fun that you will never forget...all for a great cause!  Come on out and enjoy a night of casino fun with Little Eric's Foundation!\n\n\n\nPhotos of our 2021 event: https://www.facebook.com/media/set/?vanity=littleericsfoundation&set=a.4896809510332521
X-ALT-DESC;FMTTYPE=text/html:<span style="color:rgb(0\, 0\, 0)\; font-family:droid serif\,sans-serif\; font-size:16px">Little Eric&#39\;s Big Game Night will be held on September 17\, 2022 at the Holiday Inn Wilkes-Barre - East Mountain!&nbsp\; Join us for a night of casino-themed fun...blackjack\, poker\, craps\, roulette\, and horse racing...as well as door prizes and amazing raffle prizes.&nbsp\; Includes all night open bar and food stations...and a night of fun that you will never forget...all for a great cause!&nbsp\; Come on out and enjoy a night of casino fun with Little Eric&#39\;s Foundation!<br />\n<br />\nPhotos of our 2021 event:&nbsp\;</span>https://www.facebook.com/media/set/?vanity=littleericsfoundation&amp\;set=a.4896809510332521
LOCATION:Holiday Inn East Mountain\, Wilkes-Barre\, PA
UID:e.2791.3855
SEQUENCE:3
DTSTAMP:20260419T203148Z
URL:https://www.pittstonchamber.org/events/details/little-eric-s-big-game-night-play-for-a-cure-3855
END:VEVENT

END:VCALENDAR
