BEGIN:VCALENDAR
VERSION:2.0
PRODID:-//ChamberMaster//Event Calendar 2.0//EN
METHOD:PUBLISH
X-PUBLISHED-TTL:P3D
REFRESH-INTERVAL:P3D
CALSCALE:GREGORIAN
BEGIN:VEVENT
DTSTART:20260508T210000Z
DTEND:20260508T233000Z
X-MICROSOFT-CDO-ALLDAYEVENT:FALSE
SUMMARY:Kickoff Party for The Cancer Wellness Center of NEPA's Annual Walk
DESCRIPTION:Join us for a FREE kickoff event. Please come enjoy some fun before the annual walk! When: Friday\, May 8th\, 5-7:30pm Where: The Cancer Wellness Center Enjoy the DJ Basket raffle Pizza (provided by Pizza Bella Forty Fort) Family-friendly activities
X-ALT-DESC;FMTTYPE=text/html:Join us for a FREE kickoff event. Please come enjoy some fun before the annual walk! When: Friday\, May 8th\, 5-7:30pm Where: The Cancer Wellness Center Enjoy the DJ Basket raffle Pizza (provided by Pizza Bella Forty Fort) Family-friendly activities
LOCATION:The Cancer Wellness Center of NEPA (190 Welles St\, Suite 166\, Forty Fort\, PA 18704)
UID:e.2791.4899
SEQUENCE:3
DTSTAMP:20260420T194254Z
URL:https://www.pittstonchamber.org/events/details/kickoff-party-for-the-cancer-wellness-center-of-nepa-s-annual-walk-4899
END:VEVENT

END:VCALENDAR
