BEGIN:VCALENDAR
VERSION:2.0
PRODID:-//ChamberMaster//Event Calendar 2.0//EN
METHOD:PUBLISH
X-PUBLISHED-TTL:P3D
REFRESH-INTERVAL:P3D
CALSCALE:GREGORIAN
BEGIN:VEVENT
DTSTART:20220818T130000Z
DTEND:20220818T140000Z
X-MICROSOFT-CDO-ALLDAYEVENT:FALSE
SUMMARY:HR 101 Series - Part 3 of 4 - Performance Management & Record Retention
DESCRIPTION:HR 101 Series is presented by the NEPA Chapter of the Society for Human Resources Management.  The series is designed to provide guidance to small business owners/managers\, those new to human resources (HR) management\, and those who have had HR duties added to their responsibilities.
X-ALT-DESC;FMTTYPE=text/html:HR 101 Series is presented by the NEPA Chapter of the Society for Human Resources Management.&nbsp\; The series is designed to provide guidance to small business owners/managers\, those new to human resources (HR) management\, and those who have had HR duties added to their responsibilities.&nbsp\;
LOCATION:Virtual
UID:e.2791.3851
SEQUENCE:3
DTSTAMP:20260419T222524Z
URL:https://www.pittstonchamber.org/events/details/hr-101-series-part-3-of-4-performance-management-record-retention-3851
END:VEVENT

END:VCALENDAR
