BEGIN:VCALENDAR
VERSION:2.0
PRODID:-//ChamberMaster//Event Calendar 2.0//EN
METHOD:PUBLISH
X-PUBLISHED-TTL:P3D
REFRESH-INTERVAL:P3D
CALSCALE:GREGORIAN
BEGIN:VEVENT
DTSTART:20221117T170000Z
DTEND:20221117T180000Z
X-MICROSOFT-CDO-ALLDAYEVENT:FALSE
SUMMARY:HR 101 Series - Employment Law Basics
DESCRIPTION:Small business owner or manager?  HR responsibilities added to your plate!  New to HR?  Part four of the NEPA SHRM HR 101 series introduces human resource supervisors and managers to the topic of employee safety.  The goal of the seminar is to introduce attendees to various federal and state workplace safety laws.  The seminar will also present an overview of common anti-discrimination laws and the importance of avoiding discrimination.
X-ALT-DESC;FMTTYPE=text/html:Small business owner or manager?&nbsp\; HR responsibilities added to your plate!&nbsp\; New to HR?&nbsp\; Part four of the NEPA SHRM HR 101 series introduces human resource supervisors and managers to the topic of employee safety.&nbsp\; The goal of the seminar is to introduce attendees to various federal and state workplace safety laws.&nbsp\; The seminar will also present an overview of common anti-discrimination laws and the importance of avoiding discrimination.&nbsp\;<br />\n&nbsp\;
LOCATION:Virtual
UID:e.2791.3868
SEQUENCE:3
DTSTAMP:20260419T172230Z
URL:https://www.pittstonchamber.org/events/details/hr-101-series-employment-law-basics-3868
END:VEVENT

END:VCALENDAR
