BEGIN:VCALENDAR
VERSION:2.0
PRODID:-//ChamberMaster//Event Calendar 2.0//EN
METHOD:PUBLISH
X-PUBLISHED-TTL:P3D
REFRESH-INTERVAL:P3D
CALSCALE:GREGORIAN
BEGIN:VEVENT
DTSTART;VALUE=DATE:20220917
DTEND;VALUE=DATE:20220918
TRANSP:TRANSPARENT
X-MICROSOFT-CDO-ALLDAYEVENT:TRUE
SUMMARY:Greiner Packaging Charity Golf Tournament
DESCRIPTION:On Saturday\, Sept 17th\, Greiner Packaging will be holding a charity golf tournament benefitting Susan G. Komen "Rally for the Cure" at Pine Hills Country Club in Taylor\, PA. 80$ per person\, $320 per team. This includes cart\, golf\, as well as dinner after. There will be raffle baskets\, gifts supplied by Greiner Packaging and other event sponsors\, as well as 50/50 opportunities. Please contact Ron Musto by Sept 3rd if interested\, thank you!
X-ALT-DESC;FMTTYPE=text/html:On Saturday\, Sept 17th\, Greiner Packaging will be holding a charity golf tournament benefitting Susan G. Komen &quot\;Rally for the Cure&quot\; at Pine Hills Country Club in Taylor\, PA. 80$ per person\, $320 per team. This includes cart\, golf\, as well as dinner after. There will be raffle baskets\, gifts supplied by Greiner Packaging and other event sponsors\, as well as 50/50 opportunities. Please contact Ron Musto by Sept 3rd if interested\, thank you!
LOCATION:Pine Hills Country Club 140 S Keyser Ave Taylor\, PA 18517
UID:e.2791.3841
SEQUENCE:3
DTSTAMP:20260419T203105Z
URL:https://www.pittstonchamber.org/events/details/greiner-packaging-charity-golf-tournament-3841
END:VEVENT

END:VCALENDAR
