BEGIN:VCALENDAR
VERSION:2.0
PRODID:-//ChamberMaster//Event Calendar 2.0//EN
METHOD:PUBLISH
X-PUBLISHED-TTL:P3D
REFRESH-INTERVAL:P3D
CALSCALE:GREGORIAN
BEGIN:VEVENT
DTSTART:20220923T150000Z
DTEND:20220923T190000Z
X-MICROSOFT-CDO-ALLDAYEVENT:FALSE
SUMMARY:Greater Pittston YMCA Blood Drive
DESCRIPTION:Community Blood Drive
X-ALT-DESC;FMTTYPE=text/html:Community Blood Drive
LOCATION:Greater Pittston YMCA Gym
UID:e.2791.3858
SEQUENCE:3
DTSTAMP:20260419T203011Z
URL:https://www.pittstonchamber.org/events/details/greater-pittston-ymca-blood-drive-3858
END:VEVENT

END:VCALENDAR
