BEGIN:VCALENDAR
VERSION:2.0
PRODID:-//ChamberMaster//Event Calendar 2.0//EN
METHOD:PUBLISH
X-PUBLISHED-TTL:P3D
REFRESH-INTERVAL:P3D
CALSCALE:GREGORIAN
BEGIN:VEVENT
DTSTART:20221027T150000Z
DTEND:20221027T190000Z
X-MICROSOFT-CDO-ALLDAYEVENT:FALSE
SUMMARY:Greater Pittston YMCA Blood Drive
DESCRIPTION:Open to Community Blood Drive. Free Red Cross 2022 Halloween t-shirt and $10 gift certificate to presenting donors. Cosponsored by Paint Pittston Pink Parking on lot behind YMCA
X-ALT-DESC;FMTTYPE=text/html:Open to Community Blood Drive. Free Red Cross 2022 Halloween t-shirt and $10 gift certificate to presenting donors. Cosponsored by Paint Pittston Pink Parking on lot behind YMCA
LOCATION:Greater Pittston YMCA Gym
UID:e.2791.3865
SEQUENCE:3
DTSTAMP:20260419T185043Z
URL:https://www.pittstonchamber.org/events/details/greater-pittston-ymca-blood-drive-10-27-2022-3865
END:VEVENT

END:VCALENDAR
