BEGIN:VCALENDAR
VERSION:2.0
PRODID:-//ChamberMaster//Event Calendar 2.0//EN
METHOD:PUBLISH
X-PUBLISHED-TTL:P3D
REFRESH-INTERVAL:P3D
CALSCALE:GREGORIAN
BEGIN:VEVENT
DTSTART:20220825T213000Z
DTEND:20220826T010000Z
X-MICROSOFT-CDO-ALLDAYEVENT:FALSE
SUMMARY:Greater Pittston Chamber 102nd Annual Dinner
DESCRIPTION:Greater Pittston Chamber of Commerce 102nd Annual Dinner and Outstanding Business of the Year Award Presentation to Mericle Commercial Real Estate Services and Discover NEPA\n\n\n\nSponsored by: Discover NEPA
X-ALT-DESC;FMTTYPE=text/html:Greater Pittston Chamber of Commerce 102nd Annual Dinner and Outstanding Business of the Year Award Presentation to Mericle Commercial Real Estate Services and Discover NEPA<br />\n<br />\nSponsored by: Discover NEPA
LOCATION:Fox Hill Country Club - 454 Tunkhannock Avenue - Exeter - PA
UID:e.2791.3839
SEQUENCE:3
DTSTAMP:20260419T222628Z
URL:https://www.pittstonchamber.org/events/details/greater-pittston-chamber-102nd-annual-dinner-3839
END:VEVENT

END:VCALENDAR
