BEGIN:VCALENDAR
VERSION:2.0
PRODID:-//ChamberMaster//Event Calendar 2.0//EN
METHOD:PUBLISH
X-PUBLISHED-TTL:P3D
REFRESH-INTERVAL:P3D
CALSCALE:GREGORIAN
BEGIN:VEVENT
DTSTART:20221003T120000Z
DTEND:20221003T190000Z
X-MICROSOFT-CDO-ALLDAYEVENT:FALSE
SUMMARY:GPCC Jack Grimes Golf Classic 2022
DESCRIPTION:Join the Greater Pittston Chamber of Commerce on Monday\, October 3\, 2022 for the GPCC Jack Grimes Golf Classic at Fox Hill Country Club in Exeter.\n\n\n\nCaptain & Crew Format\n\nRegistration includes: 18 holes\, cart fees\, continental breakfast\, lunch buffet\, prizes and tournament gift!\n\n\n\nSponsorships...\n\nTitle Sponsor: $3\,000.00 - (1 Available) \n\nPromoted as ?Event Sponsor?\n\n	Team Entry ? 4 Golfers\n	Logo/Name on Invitation and Promotional Materials\n	Tournament Signage\n	Special Recognition at Reception\n	Company?s Promotional Flyers or Merchandise Included w/ Player\n	Registration Packet\n	Social/Print Media Recognition\n	VIP Table at Reception\n\nHappy Hour - Sponsor: $2\,000.00 - (1 Available)\n\n\n	Name/Logo on Bar\n	Four (4) Golfers\n	Social/Print Media Recognition\n	VIP Table at Reception\n\n Eagle Sponsor: $1\,500.00\n\n\n	Name/Logo Recognition at event\n	Four (4) Golfers\n	Social/Print Media Recognition\n\n Beverage Cart Sponsor: $1\,000.00\n\n\n	Name/Logo on Beverage Cart\n	Two (2) Golfers\n	Social/Print Media Recognition\n\n Active Hole Sponsor: $500.00 (5 available) individual Hole Sponsor that allows you to promote your business with companies promotional materials/displays\, network\, create a ?theme? and offer games\, snacks\, beverages etc.\n\n\n	Includes Logo/Name on Tee Sign\n	Social/Print Media Recognition\n\n Hole Sponsor: $250.00\n\n\n	Includes Logo/Name on Tee Sign\n	Social/Print Media Recognition
X-ALT-DESC;FMTTYPE=text/html:<span style="color:gray\;"><span style="font-family:arial\,sans-serif\;"><span style="font-size:20.0pt\;">Join the Greater Pittston Chamber of Commerce on Monday\, October 3\, 2022 for the GPCC Jack Grimes Golf Classic at Fox Hill Country Club in Exeter.</span></span></span><br />\n<br />\n<span style="color:gray\;"><span style="font-family:arial\,sans-serif\;"><span style="font-size:20.0pt\;"><span style="letter-spacing:1.0pt\;"><span style="color:#EF792F\;"><span style="font-family:lucida bright\,serif\;"><span style="font-size:14.0pt\;">Captain &amp\; Crew Format</span></span></span></span></span></span></span><br />\n<span style="color:#767171\;"><span style="font-family:lucida bright\,serif\;"><span style="font-size:12.0pt\;">Registration includes:&nbsp\;</span></span></span><span style="color:#767171\;"><span style="font-family:lucida bright\,serif\;"><span style="font-size:12.0pt\;">18 holes\, cart fees\, </span></span></span><span style="color:#767171\;"><span style="font-family:lucida bright\,serif\;"><span style="font-size:12.0pt\;">continental </span></span></span><span style="color:#767171\;"><span style="font-family:lucida bright\,serif\;"><span style="font-size:12.0pt\;">breakfast\, lunch buffet\, prizes and tournament gift!<br />\n<br />\nSponsorships...</span></span></span><br />\n<span style="color:black\;"><span style="font-family:arial\,sans-serif\;"><span style="font-size:16.0pt\;">Title Sponsor: $3\,000.00 -&nbsp\;</span></span></span><span style="color:black\;"><span style="font-family:arial\,sans-serif\;">(1 Available) </span></span><br />\n<span style="color:black\;"><span style="font-family:arial\,sans-serif\;"><span style="font-size:11.0pt\;">Promoted as ?Event Sponsor?</span></span></span>\n<ul>\n	<li><span style="color:black\;"><span style="font-family:arial\,sans-serif\;"><span style="font-size:11.0pt\;">Team Entry ? 4 Golfers</span></span></span></li>\n	<li><span style="color:black\;"><span style="font-family:arial\,sans-serif\;"><span style="font-size:11.0pt\;">Logo/Name on Invitation&nbsp\;</span></span></span>and Promotional Materials</li>\n	<li><span style="color:black\;"><span style="font-family:arial\,sans-serif\;"><span style="font-size:11.0pt\;">Tournament Signage</span></span></span></li>\n	<li><span style="color:black\;"><span style="font-family:arial\,sans-serif\;"><span style="font-size:11.0pt\;"><span style="color:black\;"><span style="font-family:arial\,sans-serif\;"><span style="font-size:11.0pt\;">Special Recognition at Reception</span></span></span></span></span></span></li>\n	<li><span style="color:black\;"><span style="font-family:arial\,sans-serif\;"><span style="font-size:11.0pt\;"><span style="color:black\;"><span style="font-family:arial\,sans-serif\;"><span style="font-size:11.0pt\;"><span style="color:black\;"><span style="font-family:arial\,sans-serif\;"><span style="font-size:11.0pt\;">Company?s Promotional Flyers or Merchandise Included w/ Player</span></span></span></span></span></span></span></span></span></li>\n	<li><span style="color:black\;"><span style="font-family:arial\,sans-serif\;"><span style="font-size:11.0pt\;">Registration Packet</span></span></span></li>\n	<li><span style="color:black\;"><span style="font-family:arial\,sans-serif\;"><span style="font-size:11.0pt\;"><span style="color:black\;"><span style="font-family:arial\,sans-serif\;"><span style="font-size:11.0pt\;">Social/Print Media Recognition</span></span></span></span></span></span></li>\n	<li><span style="color:black\;"><span style="font-family:arial\,sans-serif\;"><span style="font-size:11.0pt\;"><span style="color:black\;"><span style="font-family:arial\,sans-serif\;"><span style="font-size:11.0pt\;"><span style="color:black\;"><span style="font-family:arial\,sans-serif\;"><span style="font-size:11.0pt\;">VIP Table at Reception</span></span></span></span></span></span></span></span></span></li>\n</ul>\n<strong><span style="color:#F55F0B\;"><span style="font-family:arial\,sans-serif\;"><span style="font-size:12.0pt\;">Happy Hour -&nbsp\;</span></span></span></strong><strong><span style="color:#F55F0B\;"><span style="font-family:arial\,sans-serif\;"><span style="font-size:12.0pt\;">Sponsor: $2\,000.00 -&nbsp\;</span></span></span></strong><span style="color:#F55F0B\;"><span style="font-family:arial\,sans-serif\;">(1 Available)</span></span>\n\n<ul>\n	<li><span style="color:#F55F0B\;"><span style="font-family:arial\,sans-serif\;"><span style="font-size:11.0pt\;">Name/Logo on Bar</span></span></span></li>\n	<li><span style="color:#F55F0B\;"><span style="font-family:arial\,sans-serif\;"><span style="font-size:11.0pt\;">Four (4) Golfers</span></span></span></li>\n	<li><span style="color:#F55F0B\;"><span style="font-family:arial\,sans-serif\;"><span style="font-size:11.0pt\;">Social/Print Media Recognition</span></span></span></li>\n	<li><span style="color:#F55F0B\;"><span style="font-family:arial\,sans-serif\;"><span style="font-size:11.0pt\;">VIP Table at Reception</span></span></span></li>\n</ul>\n&nbsp\;<strong><span style="color:#F55F0B\;"><span style="font-family:arial\,sans-serif\;"><span style="font-size:12.0pt\;">Eagle Sponsor: $1\,500.00</span></span></span></strong>\n\n<ul>\n	<li><span style="color:#F55F0B\;"><span style="font-family:arial\,sans-serif\;"><span style="font-size:11.0pt\;">Name/Logo </span></span></span><span style="color:#F55F0B\;"><span style="font-family:arial\,sans-serif\;">Recognition </span></span><span style="color:#F55F0B\;"><span style="font-family:arial\,sans-serif\;"><span style="font-size:11.0pt\;">at event</span></span></span></li>\n	<li><span style="color:#F55F0B\;"><span style="font-family:arial\,sans-serif\;"><span style="font-size:11.0pt\;">Four (4) Golfers</span></span></span></li>\n	<li><span style="color:#F55F0B\;"><span style="font-family:arial\,sans-serif\;"><span style="font-size:11.0pt\;">Social/Print Media Recognition</span></span></span></li>\n</ul>\n&nbsp\;<strong><span style="color:#F55F0B\;"><span style="font-family:arial\,sans-serif\;"><span style="font-size:12.0pt\;">Beverage Cart Sponsor: $1\,000.00</span></span></span></strong>\n\n<ul>\n	<li><span style="color:#F55F0B\;"><span style="font-family:arial\,sans-serif\;"><span style="font-size:11.0pt\;">Name/Logo on Beverage Cart</span></span></span></li>\n	<li><span style="color:#F55F0B\;"><span style="font-family:arial\,sans-serif\;"><span style="font-size:11.0pt\;">Two (2) Golfers</span></span></span></li>\n	<li><span style="color:#F55F0B\;"><span style="font-family:arial\,sans-serif\;"><span style="font-size:11.0pt\;">Social/Print Media Recognition</span></span></span></li>\n</ul>\n&nbsp\;<strong><span style="color:#F55F0B\;"><span style="font-family:arial\,sans-serif\;"><span style="font-size:12.0pt\;">Active Hole Sponsor: $500.00 </span></span></span></strong><span style="color:#F55F0B\;"><span style="font-family:arial\,sans-serif\;"><span style="font-size:11.0pt\;">(5 available)</span></span></span><span style="color:#ff6600\;"><span style="font-family:arial\,sans-serif\;"><span style="font-size:11.0pt\;"> </span></span><em><span style="font-family:arial\,sans-serif\;"><span style="font-size:8.0pt\;">individual&nbsp\;<strong>Hole Sponsor</strong> that allows you to promote your&nbsp\;</span></span></em><em><span style="font-family:arial\,sans-serif\;"><span style="font-size:8.0pt\;">business with companies promotional materials/displays\,&nbsp\;</span></span></em><em><span style="font-family:arial\,sans-serif\;"><span style="font-size:8.0pt\;">network\, create a ?theme? and offer games\, snacks\,&nbsp\;</span></span></em><em><span style="font-family:arial\,sans-serif\;"><span style="font-size:8.0pt\;">beverages etc.</span></span></em></span>\n\n<ul>\n	<li><span style="color:#ff6600\;"><span style="font-family:arial\,sans-serif\;"><span style="font-size:11.0pt\;">Includes Logo/Name on Tee Sign</span></span></span></li>\n	<li><span style="color:#ff6600\;"><span style="font-family:arial\,sans-serif\;"><span style="font-size:11.0pt\;">Social/Print Media Recognition</span></span></span></li>\n</ul>\n<span style="color:#ff6600\;">&nbsp\;<strong><span style="font-family:arial\,sans-serif\;"><span style="font-size:12.0pt\;">Hole Sponsor: $250.00</span></span></strong></span>\n\n<ul>\n	<li><span style="color:#ff6600\;"><span style="font-family:arial\,sans-serif\;"><span style="font-size:11.0pt\;">Includes Logo/Name on Tee Sign</span></span></span></li>\n	<li><span style="color:#ff6600\;"><span style="font-family:arial\,sans-serif\;"><span style="font-size:11.0pt\;">Social/Print Media Recognition</span></span></span></li>\n</ul>\n
LOCATION:Fox Hill Country Club Exeter\, PA
UID:e.2791.3789
SEQUENCE:3
DTSTAMP:20260419T184803Z
URL:https://www.pittstonchamber.org/events/details/gpcc-jack-grimes-golf-classic-2022-3789
END:VEVENT

END:VCALENDAR
