BEGIN:VCALENDAR
VERSION:2.0
PRODID:-//ChamberMaster//Event Calendar 2.0//EN
METHOD:PUBLISH
X-PUBLISHED-TTL:P3D
REFRESH-INTERVAL:P3D
CALSCALE:GREGORIAN
BEGIN:VEVENT
DTSTART:20221217T014500Z
DTEND:20221217T024500Z
X-MICROSOFT-CDO-ALLDAYEVENT:FALSE
SUMMARY:GPCC Breakfast Club - December
DESCRIPTION:The Greater Pittston Chamber of Commerce\n\nBreakfast Club - Special Holiday Breakfast!       \n\nThe GPCC Breakfast Club is a monthly opportunity to welcome new chamber members\, catch up with existing members\, network and enjoy the company of the Greater Pittston business community. The December GPCC Breakfast Club will be held on Friday\, December 16th 8:45 a.m. at Marie's Diner   207 McAlpine Street\, Duryea (side room)
X-ALT-DESC;FMTTYPE=text/html:<strong><span style="color:#2A2A2A\;"><span style="font-family:raleway\;"><span style="font-size:16.0pt\;">The Greater Pittston Chamber of Commerce<br />\n<span style="font-size:26px\;">Breakfast Club - Special Holiday Breakfast!&nbsp\;</span></span></span></span></strong>&#127876\;&#9924\;&#10052\;&#65039\;&#129334\;&#127877\;<br />\n<span style="color:#2A2A2A\;"><span style="font-family:open sans\,sans-serif\;"><span style="font-size:12.0pt\;">The <em>GPCC Breakfast Club</em> is a monthly opportunity to welcome new chamber members\, catch up with existing members\, network and enjoy the company of the Greater Pittston business community. The December GPCC Breakfast Club will be held on Friday\, December 16th 8:45 a.m.&nbsp\;at Marie&#39\;s Diner &ndash\; 207 McAlpine Street\, Duryea (side room)</span></span></span>
LOCATION:Marie's Diner 207 McAlpine Street\, Duryea (side room)
UID:e.2791.3867
SEQUENCE:3
DTSTAMP:20260419T173031Z
URL:https://www.pittstonchamber.org/events/details/gpcc-breakfast-club-december-3867
END:VEVENT

END:VCALENDAR
