BEGIN:VCALENDAR
VERSION:2.0
PRODID:-//ChamberMaster//Event Calendar 2.0//EN
METHOD:PUBLISH
X-PUBLISHED-TTL:P3D
REFRESH-INTERVAL:P3D
CALSCALE:GREGORIAN
BEGIN:VEVENT
DTSTART:20220512T210000Z
DTEND:20220513T010000Z
X-MICROSOFT-CDO-ALLDAYEVENT:FALSE
SUMMARY:FSA Spring Fling and Online Auction
DESCRIPTION:Family Service Association (FSA) is proud to enter our 126th year of service as a not-for-profit organization dedicated to working with children\, individuals\, families\, and communities to help them achieve their full potential. In celebration\, you are invited to our Spring Fling on Thursday\, May 12\, 2022 at The Westmoreland Club.
X-ALT-DESC;FMTTYPE=text/html:Family Service Association (FSA) is proud to enter our 126th year of service as a not-for-profit organization dedicated to working with children\, individuals\, families\, and communities to help them achieve their full potential. In celebration\, you are invited to our Spring Fling on Thursday\, May 12\, 2022 at The Westmoreland Club.
LOCATION:The Westmoreland Club 59 S. Franklin St. Wilkes-Barre\, PA 18701
UID:e.2791.3805
SEQUENCE:3
DTSTAMP:20260420T033829Z
URL:https://www.pittstonchamber.org/events/details/fsa-spring-fling-and-online-auction-3805
END:VEVENT

END:VCALENDAR
