BEGIN:VCALENDAR
VERSION:2.0
PRODID:-//ChamberMaster//Event Calendar 2.0//EN
METHOD:PUBLISH
X-PUBLISHED-TTL:P3D
REFRESH-INTERVAL:P3D
CALSCALE:GREGORIAN
BEGIN:VEVENT
DTSTART:20220421T160000Z
DTEND:20220421T170000Z
X-MICROSOFT-CDO-ALLDAYEVENT:FALSE
SUMMARY:FREE Grow With Google webinar: Use YouTube to Grow Your Business
DESCRIPTION:Use YouTube to Grow Your Business Let's talk about YouTube! Are you thinking of creating a YouTube Channel? Are you currently using YouTube for your business? Not sure how to get started or how to build your channel? This is the webinar for you. Get best practices for creating a YouTube Channel and compelling video content that promotes your products and services and drives engagement with your brand. In this workshop\, we'll discuss best practices for:   Why you should have a YouTube channel   How to set up a YouTube channel   What's important to fill out when uploading a video   Making good creative\, and how to target and measure the results
X-ALT-DESC;FMTTYPE=text/html:Use YouTube to Grow Your Business Let&#39\;s talk about YouTube! Are you thinking of creating a YouTube Channel? Are you currently using YouTube for your business? Not sure how to get started or how to build your channel? This is the webinar for you. Get best practices for creating a YouTube Channel and compelling video content that promotes your products and services and drives engagement with your brand. In this workshop\, we&rsquo\;ll discuss best practices for: &bull\; Why you should have a YouTube channel &bull\; How to set up a YouTube channel &bull\; What&#39\;s important to fill out when uploading a video &bull\; Making good creative\, and how to target and measure the results
LOCATION:This is a virtual Go-To Webinar. The registration link is included.
UID:e.2791.3820
SEQUENCE:3
DTSTAMP:20260426T010908Z
URL:https://www.pittstonchamber.org/events/details/free-grow-with-google-webinar-use-youtube-to-grow-your-business-3820
END:VEVENT

END:VCALENDAR
