BEGIN:VCALENDAR
VERSION:2.0
PRODID:-//ChamberMaster//Event Calendar 2.0//EN
METHOD:PUBLISH
X-PUBLISHED-TTL:P3D
REFRESH-INTERVAL:P3D
CALSCALE:GREGORIAN
BEGIN:VEVENT
DTSTART:20220607T160000Z
DTEND:20220607T170000Z
X-MICROSOFT-CDO-ALLDAYEVENT:FALSE
SUMMARY:Free Grow With Google webinar: Sell Online with E-Commerce Tools
DESCRIPTION:Sell Online with E-Commerce Tools Learn how to sell your products online. We'll walk through listing your products for free with Google Business Profile and Merchant Center. In this workshop\, we will:   Discuss the Products tab in Google Business Profile   Introduce Google Merchant Center and the basics of creating a free account and a product feed   Show how to connect your E-Commerce website (using Shopify as an example) to Merchant Center
X-ALT-DESC;FMTTYPE=text/html:Sell Online with E-Commerce Tools Learn how to sell your products online. We&#39\;ll walk through listing your products for free with Google Business Profile and Merchant Center. In this workshop\, we will: &bull\; Discuss the Products tab in Google Business Profile &bull\; Introduce Google Merchant Center and the basics of creating a free account and a product feed &bull\; Show how to connect your E-Commerce website (using Shopify as an example) to Merchant Center
LOCATION:This will be a virtual webinar on the Go To Webinar platform.
UID:e.2791.3822
SEQUENCE:3
DTSTAMP:20260420T013650Z
URL:https://www.pittstonchamber.org/events/details/free-grow-with-google-webinar-sell-online-with-e-commerce-tools-3822
END:VEVENT

END:VCALENDAR
