BEGIN:VCALENDAR
VERSION:2.0
PRODID:-//ChamberMaster//Event Calendar 2.0//EN
METHOD:PUBLISH
X-PUBLISHED-TTL:P3D
REFRESH-INTERVAL:P3D
CALSCALE:GREGORIAN
BEGIN:VEVENT
DTSTART:20220628T133000Z
DTEND:20220628T143000Z
X-MICROSOFT-CDO-ALLDAYEVENT:FALSE
SUMMARY:Free Grow With Google webinar: Make Better Business Decisions with Analytics
DESCRIPTION:Make Better Business Decisions with Analytics. Join us as we discuss and analyze trends about how customers engage with your business online\, then turn these insights into well-informed\, actionable decisions. We will discuss using Google Analytics to help you collect and interpret real-time information\, review some of the reports and terms used so you can learn more about your target audience and how to achieve your business goals. During this session\, we will:   Identifying business goals (and how you plan to use your online presence to achieve them)   Incorporating data into your plan   A focus on introducing Google Analytics and how to use this tool to make better business decisions
X-ALT-DESC;FMTTYPE=text/html:Make Better Business Decisions with Analytics. Join us as we discuss and analyze trends about how customers engage with your business online\, then turn these insights into well-informed\, actionable decisions. We will discuss using Google Analytics to help you collect and interpret real-time information\, review some of the reports and terms used so you can learn more about your target audience and how to achieve your business goals. During this session\, we will: &bull\; Identifying business goals (and how you plan to use your online presence to achieve them) &bull\; Incorporating data into your plan &bull\; A focus on introducing Google Analytics and how to use this tool to make better business decisions
LOCATION:This will be a virtual webinar on the Go To Webinar platform.
UID:e.2791.3823
SEQUENCE:3
DTSTAMP:20260420T013656Z
URL:https://www.pittstonchamber.org/events/details/free-grow-with-google-webinar-make-better-business-decisions-with-analytics-3823
END:VEVENT

END:VCALENDAR
