BEGIN:VCALENDAR
VERSION:2.0
PRODID:-//ChamberMaster//Event Calendar 2.0//EN
METHOD:PUBLISH
X-PUBLISHED-TTL:P3D
REFRESH-INTERVAL:P3D
CALSCALE:GREGORIAN
BEGIN:VEVENT
DTSTART:20220511T180000Z
DTEND:20220511T190000Z
X-MICROSOFT-CDO-ALLDAYEVENT:FALSE
SUMMARY:Free Grow With Google webinar: Learn the Basics of Google Ads
DESCRIPTION:Learn the Basics of Google Ads Let's talk about Google Ads and how to get started! In this workshop\, you will learn how to reach more customers and grow your business with Google Ads. In this session\, we'll talk about:   How to create an account and set up an ad campaign   How to write great ads\, refine keywords\, and include ad extensions   How to measure success
X-ALT-DESC;FMTTYPE=text/html:Learn the Basics of Google Ads Let&#39\;s talk about Google Ads and how to get started! In this workshop\, you will learn how to reach more customers and grow your business with Google Ads. In this session\, we&rsquo\;ll talk about: &bull\; How to create an account and set up an ad campaign &bull\; How to write great ads\, refine keywords\, and include ad extensions &bull\; How to measure success
LOCATION:This will be a virtual webinar on the Go To Webinar platform.
UID:e.2791.3821
SEQUENCE:3
DTSTAMP:20260420T033854Z
URL:https://www.pittstonchamber.org/events/details/free-grow-with-google-webinar-learn-the-basics-of-google-ads-3821
END:VEVENT

END:VCALENDAR
