BEGIN:VCALENDAR
VERSION:2.0
PRODID:-//ChamberMaster//Event Calendar 2.0//EN
METHOD:PUBLISH
X-PUBLISHED-TTL:P3D
REFRESH-INTERVAL:P3D
CALSCALE:GREGORIAN
BEGIN:VEVENT
DTSTART:20221020T150000Z
DTEND:20221020T160000Z
X-MICROSOFT-CDO-ALLDAYEVENT:FALSE
SUMMARY:Fall 2022 FREE Virtual Open House: Volunteer With NEPA Score
DESCRIPTION:Register for our FREE Virtual Open House on October 20th. at 11:00 am EDT. Northeastern Pennsylvania (NEPA) Score is rapidly growing. We are searching for new business mentor volunteers as well as specialists willing to support our business community. Our Score Chapter is looking to onboard several knowledgeable and caring volunteers wanting to make a positive impact in northeastern Pennsylvania. There are so many ways to give back to NEPA Score and the business community. You can become a business mentor\, a workshop presenter\, take the lead in creating webinars or live events for our business community\, and so much more. What are the benefits of volunteering with NEPA Score? There are several benefits to volunteering with NEPA Score. These include: Supporting and mentoring local entrepreneurs in northeastern Pennsylvania. New and existing NEPA Score Business Mentors can expand their skill set as well as their professional reputation. You'll have the opportunity to network and build quality professional relationships. There's also the satisfaction of helping grow your local business community here in northeastern Pennsylvania. Source: https://nepa.score.org/voluneer. New and established business owners\, as well as college graduates\, are welcome to volunteer with NEPA Score. We welcome you to attend our free NEPA Score Virtual Open House on Thursday\, October 20th. at 11 am EDT. After you register for our event\, you'll receive a registration reminder with the Zoom link the day before the event as well as the day of the event. You can also email Matthew Philistine\, NEPA Score Business Mentor and Event Campaign Manager at matthew.philistine@scorevolunteer.org and schedule an appropriate time to discuss volunteer opportunities available through NEPA Score if you can't attend this virtual presentation on October 20th. Once again\, thank you for expressing interest in NEPA Score and wanting to give back to our northeastern Pennsylvania business community. You can also share this event with your friends and colleagues. Northeastern Pennsylvania Score is looking forward to meeting you online on October 20th.
X-ALT-DESC;FMTTYPE=text/html:Register for our FREE Virtual Open House on October 20th. at 11:00 am EDT. Northeastern Pennsylvania (NEPA) Score is rapidly growing. We are searching for new business mentor volunteers as well as specialists willing to support our business community. Our Score Chapter is looking to onboard several knowledgeable and caring volunteers wanting to make a positive impact in northeastern Pennsylvania. There are so many ways to give back to NEPA Score and the business community. You can become a business mentor\, a workshop presenter\, take the lead in creating webinars or live events for our business community\, and so much more. What are the benefits of volunteering with NEPA Score? There are several benefits to volunteering with NEPA Score. These include: Supporting and mentoring local entrepreneurs in northeastern Pennsylvania. New and existing NEPA Score Business Mentors can expand their skill set as well as their professional reputation. You&#39\;ll have the opportunity to network and build quality professional relationships. There&#39\;s also the satisfaction of helping grow your local business community here in northeastern Pennsylvania. Source: https://nepa.score.org/voluneer. New and established business owners\, as well as college graduates\, are welcome to volunteer with NEPA Score. We welcome you to attend our free NEPA Score Virtual Open House on Thursday\, October 20th. at 11 am EDT. After you register for our event\, you&#39\;ll receive a registration reminder with the Zoom link the day before the event as well as the day of the event. You can also email Matthew Philistine\, NEPA Score Business Mentor and Event Campaign Manager at matthew.philistine@scorevolunteer.org and schedule an appropriate time to discuss volunteer opportunities available through NEPA Score if you can&#39\;t attend this virtual presentation on October 20th. Once again\, thank you for expressing interest in NEPA Score and wanting to give back to our northeastern Pennsylvania business community. You can also share this event with your friends and colleagues. Northeastern Pennsylvania Score is looking forward to meeting you online on October 20th.
LOCATION:This will be a virtual event presented through Zoom.
UID:e.2791.3852
SEQUENCE:3
DTSTAMP:20260419T185104Z
URL:https://www.pittstonchamber.org/events/details/fall-2022-free-virtual-open-house-volunteer-with-nepa-score-3852
END:VEVENT

END:VCALENDAR
