BEGIN:VCALENDAR
VERSION:2.0
PRODID:-//ChamberMaster//Event Calendar 2.0//EN
METHOD:PUBLISH
X-PUBLISHED-TTL:P3D
REFRESH-INTERVAL:P3D
CALSCALE:GREGORIAN
BEGIN:VEVENT
DTSTART:20230218T180000Z
DTEND:20230218T210000Z
X-MICROSOFT-CDO-ALLDAYEVENT:FALSE
SUMMARY:Designer Purse Bingo
DESCRIPTION:Bags\, Besties & Bingo! Join us on Saturday\, February 18\, 2023\, for our Designer Purse Bingo at the Wilkes-Barre Area Career & Technical Center. Doors open at 11:30 AM - Games begin at 1:00 PM The cost is $30 per person and includes 20 regular bingo games\, a door prize entry\, and one meal voucher. Tickets at the door with be $35 Michael Kors\, Coach\, Kate Spade\, Vera Bradley\, and more will be highlighting this event with beautiful designer handbags. Bring a group of 10 people and get a table reserved! At the event\, you can purchase extra bingo cards\, Special prize bingo cards\, 50/50 tickets\, snacks\, and a chance for some amazing basket raffles. We will also have a limited supply of dabbers at the door while supplies last. Plus\, get ready to shop!!! Some of our areas BEST local small business will be in attendance! You can purchase tickets through Venmo WBACTC-SA (in the memo include purse bingo) or By calling 570-822-4131 ext. 147 All proceeds raised during this event will be used to support the students of the Wilkes-Barre Area Career & Technical Center with our Senior Commencement Ceremony\, Skills USA\, and other various school-related activities. For additional information please contact Megan at mlaudato@wbactc.org
X-ALT-DESC;FMTTYPE=text/html:Bags\, Besties &amp\; Bingo! Join us on Saturday\, February 18\, 2023\, for our Designer Purse Bingo at the Wilkes-Barre Area Career &amp\; Technical Center. Doors open at 11:30 AM - Games begin at 1:00 PM The cost is $30 per person and includes 20 regular bingo games\, a door prize entry\, and one meal voucher. Tickets at the door with be $35 Michael Kors\, Coach\, Kate Spade\, Vera Bradley\, and more will be highlighting this event with beautiful designer handbags. Bring a group of 10 people and get a table reserved! At the event\, you can purchase extra bingo cards\, Special prize bingo cards\, 50/50 tickets\, snacks\, and a chance for some amazing basket raffles. We will also have a limited supply of dabbers at the door while supplies last. Plus\, get ready to shop!!! Some of our areas BEST local small business will be in attendance! You can purchase tickets through Venmo WBACTC-SA (in the memo include purse bingo) or By calling 570-822-4131 ext. 147 All proceeds raised during this event will be used to support the students of the Wilkes-Barre Area Career &amp\; Technical Center with our Senior Commencement Ceremony\, Skills USA\, and other various school-related activities. For additional information please contact Megan at mlaudato@wbactc.org
LOCATION:350 Jumper Road. Wilkes-Barre PA. 18705
UID:e.2791.3905
SEQUENCE:3
DTSTAMP:20260419T123038Z
URL:https://www.pittstonchamber.org/events/details/designer-purse-bingo-3905
END:VEVENT

END:VCALENDAR
