BEGIN:VCALENDAR
VERSION:2.0
PRODID:-//ChamberMaster//Event Calendar 2.0//EN
METHOD:PUBLISH
X-PUBLISHED-TTL:P3D
REFRESH-INTERVAL:P3D
CALSCALE:GREGORIAN
BEGIN:VEVENT
DTSTART:20220930T210000Z
DTEND:20221001T010000Z
X-MICROSOFT-CDO-ALLDAYEVENT:FALSE
SUMMARY:DANCIN' in the STREET - 2022
DESCRIPTION:The Greater Pittston Chamber of Commerce Presents: Dancin' in the Street with live music from "Reelin in the Years" and more!\n\nBYOB - Food - Music - Dancing\n\nSponsored by: A&G Tent & Rentals Co. and Rock Street Music
X-ALT-DESC;FMTTYPE=text/html:<span style="color:#1F3864\;"><span style="font-family:calibri\,sans-serif\;"><span style="font-size:24.0pt\;"><span style="font-size:24px\;">The Greater Pittston Chamber of Commerce Presents: Dancin&#39\; in the Street with live music from &quot\;Reelin in the Years&quot\; and more!<br />\nBYOB - Food - Music - Dancing<br />\nSponsored by: A&amp\;G Tent &amp\; Rentals Co. and Rock Street Music</span></span></span></span>
LOCATION:Chamber Parking Lot 104 Kennedy Boulevard
UID:e.2791.3856
SEQUENCE:3
DTSTAMP:20260419T203351Z
URL:https://www.pittstonchamber.org/events/details/dancin-in-the-street-2022-3856
END:VEVENT

END:VCALENDAR
