BEGIN:VCALENDAR
VERSION:2.0
PRODID:-//ChamberMaster//Event Calendar 2.0//EN
METHOD:PUBLISH
X-PUBLISHED-TTL:P3D
REFRESH-INTERVAL:P3D
CALSCALE:GREGORIAN
BEGIN:VEVENT
DTSTART:20220729T150000Z
DTEND:20220729T220000Z
X-MICROSOFT-CDO-ALLDAYEVENT:FALSE
SUMMARY:Chamber Day at Montage Mountain Waterpark 2022
DESCRIPTION:Chamber Day presents a great opportunity for you and your employees to enjoy discounted admission to Montage Mountain Waterpark.\n\n$15 tickets which includes all water attractions and several* dry attractions *Zip Rider is not included in Chamber Day admission package. \n\n\n\nTickets are $15 per person (for children 2 years old and up\, children under 2\, tickets not required) for Chamber members and their employees. Discounted tickets MUST be purchased and paid for in advance through the Chamber by July 28th -no exceptions. You will receive an email confirmation that will serve as your receipt. (All tickets will be available at the Chamber "Will Call Tent" the day of the event.)\n\nhttps://www.scrantonchamber.com/events/chamber-day-at-the-waterpark-3/
X-ALT-DESC;FMTTYPE=text/html:<span style="color: rgb(51\, 51\, 51)\; font-family: arial\; font-size: 14px\; background-color: rgb(255\, 255\, 255)\;">Chamber Day presents a great opportunity for you and your employees to enjoy discounted admission to Montage Mountain Waterpark.<br />\n$15 tickets which includes all water attractions and several* dry attractions&nbsp\;</span><span style="box-sizing: border-box\; color: rgb(51\, 51\, 51)\; font-family: arial\; background-color: rgb(255\, 255\, 255)\; font-size: 10px\;">*Zip Rider is not included in Chamber Day admission package.&nbsp\;</span><br style="box-sizing: border-box\; color: rgb(51\, 51\, 51)\; font-family: arial\; font-size: 14px\; background-color: rgb(255\, 255\, 255)\;" />\n<br style="box-sizing: border-box\; color: rgb(51\, 51\, 51)\; font-family: arial\; font-size: 14px\; background-color: rgb(255\, 255\, 255)\;" />\n<span style="color: rgb(51\, 51\, 51)\; font-family: arial\; font-size: 14px\; background-color: rgb(255\, 255\, 255)\;">Tickets are $15 per person&nbsp\;</span><span style="box-sizing: border-box\; color: rgb(51\, 51\, 51)\; font-family: arial\; background-color: rgb(255\, 255\, 255)\; font-size: 10px\;">(for children 2 years old and up\, children under 2\, tickets not required)</span><span style="color: rgb(51\, 51\, 51)\; font-family: arial\; font-size: 14px\; background-color: rgb(255\, 255\, 255)\;">&nbsp\;for Chamber members and their employees. Discounted tickets MUST be purchased and paid for in advance through the Chamber by July 28th -no exceptions. You will receive an email confirmation that will serve as your receipt.&nbsp\;</span><span style="box-sizing: border-box\; color: rgb(51\, 51\, 51)\; font-family: arial\; background-color: rgb(255\, 255\, 255)\; font-size: 10px\;">(All tickets will be available at the Chamber &quot\;Will Call Tent&quot\; the day of the event.)</span><br />\n<span style="font-family:calibri\,sans-serif\;"><span style="font-size:11.0pt\;"><a href="https://www.scrantonchamber.com/events/chamber-day-at-the-waterpark-3/">https://www.scrantonchamber.com/events/chamber-day-at-the-waterpark-3/</a></span></span>
LOCATION:1000 Montage Mountain Rd Scranton\, PA 18505
UID:e.2791.3844
SEQUENCE:3
DTSTAMP:20260420T014115Z
URL:https://www.pittstonchamber.org/events/details/chamber-day-at-montage-mountain-waterpark-2022-3844
END:VEVENT

END:VCALENDAR
