BEGIN:VCALENDAR
VERSION:2.0
PRODID:-//ChamberMaster//Event Calendar 2.0//EN
METHOD:PUBLISH
X-PUBLISHED-TTL:P3D
REFRESH-INTERVAL:P3D
CALSCALE:GREGORIAN
BEGIN:VEVENT
DTSTART:20220812T220000Z
DTEND:20220813T023000Z
X-MICROSOFT-CDO-ALLDAYEVENT:FALSE
SUMMARY:Back to Elton John
DESCRIPTION:Back to Elton John Friday\, August 12\, 2022 6:30 pm - 10:30 pm Doors open at 6:00 pm Irem Country Club Pavilion $60 / Ticket Hors d'oeuvres\, food stations\, dessert tables\, beer\, wine\, soft drinks\, music\, & more... A Magical Night of GREAT FOOD by Apple Tree Terrace LIVE MUSIC by Philadelphia Freedom & All Things 70's What should I wear? Your BEST Elton John glasses!! The Basket Raffle will Benefit Fork Over Love
X-ALT-DESC;FMTTYPE=text/html:Back to Elton John Friday\, August 12\, 2022 6:30 pm - 10:30 pm Doors open at 6:00 pm Irem Country Club Pavilion $60 / Ticket Hors d&rsquo\;oeuvres\, food stations\, dessert tables\, beer\, wine\, soft drinks\, music\, &amp\; more... A Magical Night of GREAT FOOD by Apple Tree Terrace LIVE MUSIC by Philadelphia Freedom &amp\; All Things 70&#39\;s What should I wear? Your BEST Elton John glasses!! The Basket Raffle will Benefit Fork Over Love
LOCATION:Irem Temple Pavilion
UID:e.2791.3847
SEQUENCE:3
DTSTAMP:20260419T221025Z
URL:https://www.pittstonchamber.org/events/details/back-to-elton-john-3847
END:VEVENT

END:VCALENDAR
