BEGIN:VCALENDAR
VERSION:2.0
PRODID:-//ChamberMaster//Event Calendar 2.0//EN
METHOD:PUBLISH
X-PUBLISHED-TTL:P3D
REFRESH-INTERVAL:P3D
CALSCALE:GREGORIAN
BEGIN:VEVENT
DTSTART:20220613T140000Z
DTEND:20220613T230000Z
X-MICROSOFT-CDO-ALLDAYEVENT:FALSE
SUMMARY:Back Mountain Chamber 3rd Annual Golf Tournament
DESCRIPTION:Join us for our 3rd Annual Back Mountain Chamber Golf Tournament at the beautiful Huntsville Golf Club on Monday\, June 13. Registration begins at 10 a.m. with the shotgun start at 11 a.m. Each registration includes golf\, cart\, prizes\, and food throughout the day including a catered dinner. Space is limited so don't miss out! Individual Golfer: $175 Foursome: $700 Mulligans: $5 each Thank you to our sponsors: Weis Markets | Waterfront Professional Park | Back Mountain Harvest | Luzerne Bank Sponsorships are still available. Please contact the Back Mountain Chamber office if you'd like to take part.
X-ALT-DESC;FMTTYPE=text/html:Join us for our 3rd Annual Back Mountain Chamber Golf Tournament at the beautiful Huntsville Golf Club on Monday\, June 13. Registration begins at 10 a.m. with the shotgun start at 11 a.m. Each registration includes golf\, cart\, prizes\, and food throughout the day including a catered dinner. Space is limited so don&#39\;t miss out! Individual Golfer: $175 Foursome: $700 Mulligans: $5 each Thank you to our sponsors: Weis Markets | Waterfront Professional Park | Back Mountain Harvest | Luzerne Bank Sponsorships are still available. Please contact the Back Mountain Chamber office if you&#39\;d like to take part.
LOCATION:Huntsville Golf Club
UID:e.2791.3830
SEQUENCE:3
DTSTAMP:20260420T033639Z
URL:https://www.pittstonchamber.org/events/details/back-mountain-chamber-3rd-annual-golf-tournament-3830
END:VEVENT

END:VCALENDAR
