BEGIN:VCALENDAR
VERSION:2.0
PRODID:-//ChamberMaster//Event Calendar 2.0//EN
METHOD:PUBLISH
X-PUBLISHED-TTL:P3D
REFRESH-INTERVAL:P3D
CALSCALE:GREGORIAN
BEGIN:VEVENT
DTSTART:20221011T230000Z
DTEND:20221012T003000Z
X-MICROSOFT-CDO-ALLDAYEVENT:FALSE
SUMMARY:Allan P. Kirby Lecture in Free Enterprise and Entrepreneurship
DESCRIPTION:Team Rubicon Founder Jake Wood Delivers Wilkes University's Allan P. Kirby Lecture in Free Enterprise and Entrepreneurship on Oct. 11 Jake Wood\, co-founder and executive chairman of Team Rubicon and CEO of Groundswell\, will deliver the Allan P. Kirby Lecture in Free Enterprise and Entrepreneurship at Wilkes University on Tuesday\, Oct. 11. Wood\, a former Marine scout sniper and University of Wisconsin football player\, will present Conquering Chaos at 7 p.m. at the Dorothy Dickson Darte Center for the Performing Arts\, 239 S. River St.\, Wilkes-Barre\, Pa. A book signing will conclude the lecture. The event will also be livestreamed for those who cannot attend in person. Wood was originally intended to give the Kirby Lecture in Nov. 2018. Due to inclement weather\, the lecture was canceled. In the spirit of entrepreneurial thinking\, Wood quickly reacted\, providing informal remarks to Wilkes students earlier in the day. Seats are expected to fill quickly. Register online at www.wilkes.edu/kirbylecture.
X-ALT-DESC;FMTTYPE=text/html:Team Rubicon Founder Jake Wood Delivers Wilkes University&rsquo\;s Allan P. Kirby Lecture in Free Enterprise and Entrepreneurship on Oct. 11 Jake Wood\, co-founder and executive chairman of Team Rubicon and CEO of Groundswell\, will deliver the Allan P. Kirby Lecture in Free Enterprise and Entrepreneurship at Wilkes University on Tuesday\, Oct. 11. Wood\, a former Marine scout sniper and University of Wisconsin football player\, will present Conquering Chaos at 7 p.m. at the Dorothy Dickson Darte Center for the Performing Arts\, 239 S. River St.\, Wilkes-Barre\, Pa. A book signing will conclude the lecture. The event will also be livestreamed for those who cannot attend in person. Wood was originally intended to give the Kirby Lecture in Nov. 2018. Due to inclement weather\, the lecture was canceled. In the spirit of entrepreneurial thinking\, Wood quickly reacted\, providing informal remarks to Wilkes students earlier in the day. Seats are expected to fill quickly. Register online at www.wilkes.edu/kirbylecture.
LOCATION:Dorothy Dickson Darte Center for the Performing Arts\, 239 S. River St.\, Wilkes-Barre\, Pa
UID:e.2791.3857
SEQUENCE:3
DTSTAMP:20260419T185346Z
URL:https://www.pittstonchamber.org/events/details/allan-p-kirby-lecture-in-free-enterprise-and-entrepreneurship-3857
END:VEVENT

END:VCALENDAR
