BEGIN:VCALENDAR
VERSION:2.0
PRODID:-//ChamberMaster//Event Calendar 2.0//EN
METHOD:PUBLISH
X-PUBLISHED-TTL:P3D
REFRESH-INTERVAL:P3D
CALSCALE:GREGORIAN
BEGIN:VEVENT
DTSTART;VALUE=DATE:20220613
DTEND;VALUE=DATE:20220614
TRANSP:TRANSPARENT
X-MICROSOFT-CDO-ALLDAYEVENT:TRUE
SUMMARY:9th Annual Chip in for Sight Golf Tournament
DESCRIPTION:Please join us for the 9th Annual Chip in for Sight Golf Tournament supporting the programs and services of Northeast Sight Services.
X-ALT-DESC;FMTTYPE=text/html:Please join us for the 9th Annual Chip in for Sight Golf Tournament supporting the programs and services of Northeast Sight Services.
LOCATION:Wyoming Valley Country Club
UID:e.2791.3800
SEQUENCE:3
DTSTAMP:20260420T013835Z
URL:https://www.pittstonchamber.org/events/details/9th-annual-chip-in-for-sight-golf-tournament-3800
END:VEVENT

END:VCALENDAR
