BEGIN:VCALENDAR
VERSION:2.0
PRODID:-//ChamberMaster//Event Calendar 2.0//EN
METHOD:PUBLISH
X-PUBLISHED-TTL:P3D
REFRESH-INTERVAL:P3D
CALSCALE:GREGORIAN
BEGIN:VEVENT
DTSTART;VALUE=DATE:20220605
DTEND;VALUE=DATE:20220606
TRANSP:TRANSPARENT
X-MICROSOFT-CDO-ALLDAYEVENT:TRUE
SUMMARY:5th Annual Little Eric's Big Wiffle Ball Classic
DESCRIPTION:Little Eric's Foundation is happy to announce our 5th Annual Wiffle Ball Classic. There are 4 divisions: 7-9 yrs old\, 10-12\, 13-15\, and 16+. To register a team name\, division\, contact info\, etc.\, please make a check payable to "LEF" and send to Jessica Speicher\, 1011 Ledgeview Drive\, West Pittston\, PA 18643. Each team is a $50 registration fee. All proceeds go to Little Eric's Foundation.
X-ALT-DESC;FMTTYPE=text/html:<span style="color:rgb(102\, 102\, 102)\; font-family:open sans\,sans-serif\; font-size:14px">Little Eric&#39\;s Foundation is happy to announce our 5th Annual Wiffle Ball Classic. There are 4 divisions: 7-9 yrs old\, 10-12\, 13-15\, and 16+. To register a team name\, division\, contact info\, etc.\, please make a check payable to &quot\;LEF&quot\; and send to Jessica Speicher\, 1011 Ledgeview Drive\, West Pittston\, PA 18643. Each team is a $50 registration fee. All proceeds go to&nbsp\;</span><a href="https://littleericsfoundation.org/" style="box-sizing: border-box\; color: rgb(51\, 122\, 183)\; text-decoration-line: none\; cursor: pointer\; font-family: &quot\;Open Sans&quot\;\, sans-serif\; font-size: 14px\; letter-spacing: 0.5px\;">Little Eric&#39\;s Foundation</a><span style="color:rgb(102\, 102\, 102)\; font-family:open sans\,sans-serif\; font-size:14px">.</span>
LOCATION:West Pittston Little League Fields
UID:e.2791.3840
SEQUENCE:3
DTSTAMP:20260420T013824Z
URL:https://www.pittstonchamber.org/events/details/5th-annual-little-eric-s-big-wiffle-ball-classic-3840
END:VEVENT

END:VCALENDAR
