BEGIN:VCALENDAR
VERSION:2.0
PRODID:-//ChamberMaster//Event Calendar 2.0//EN
METHOD:PUBLISH
X-PUBLISHED-TTL:P3D
REFRESH-INTERVAL:P3D
CALSCALE:GREGORIAN
BEGIN:VEVENT
DTSTART:20230224T124500Z
DTEND:20230224T140000Z
X-MICROSOFT-CDO-ALLDAYEVENT:FALSE
SUMMARY:2023 Mid-Winter Breakfast
DESCRIPTION:2023 Annual Mid-Winter Breakfast Meeting\n\nDr. George Ruiz of Geisinger will serve as the Principal Speaker.\n\n\n\nWear Red to support American Heart Month!\n\n\n\nat "The Venue" Culinary Creations by Metz\n\nCome check out the newest venue in our area!
X-ALT-DESC;FMTTYPE=text/html:<span style="font-family:arial\;"><span style="color: rgb(51\, 51\, 51)\; background-color: rgb(255\, 255\, 255)\; font-size: 20px\;">2023 Annual Mid-Winter Breakfast Meeting<br />\nDr. George Ruiz of Geisinger</span></span><span style="color:#000000\;"><span style="font-size: 14px\; background-color: rgb(255\, 255\, 255)\; font-family: verdana\;"><span style="font-family:arial\;"><span style="font-size: 20px\;">&nbsp\;will serve as the Principal Speaker.</span></span></span></span><br />\n<br />\n<em><span style="color:#B22222\;"><span style="font-size: 14px\; background-color: rgb(255\, 255\, 255)\; font-family: verdana\;"><span style="font-family:arial\;"><span style="font-size: 20px\;">Wear Red to support American Heart Month!</span></span></span></span></em><br />\n<br />\n<span style="color:#000000\;"><span style="font-size: 14px\; background-color: rgb(255\, 255\, 255)\; font-family: verdana\;"><span style="font-family:arial\;"><span style="font-size: 20px\;">at &quot\;The Venue&quot\; Culinary Creations by Metz<br />\n<span style="font-size:14px\;">Come check out the newest venue in our area!</span></span></span></span></span>
LOCATION:28 Concorde Drive Avoca\, PA 18641 (formerly Tipsy Turtle Airport Pub or Damon's)
UID:e.2791.3875
SEQUENCE:3
DTSTAMP:20260419T123256Z
URL:https://www.pittstonchamber.org/events/details/2023-mid-winter-breakfast-3875
END:VEVENT

END:VCALENDAR
