BEGIN:VCALENDAR
VERSION:2.0
PRODID:-//ChamberMaster//Event Calendar 2.0//EN
METHOD:PUBLISH
X-PUBLISHED-TTL:P3D
REFRESH-INTERVAL:P3D
CALSCALE:GREGORIAN
BEGIN:VEVENT
DTSTART:20221111T124500Z
DTEND:20221111T140000Z
X-MICROSOFT-CDO-ALLDAYEVENT:FALSE
SUMMARY:2022 GPCC Autumn Breakfast Meeting at St. Joseph Marello Parish Hall Pittston
DESCRIPTION:GPCC Autumn Breakfast Meeting at St. Joseph Marello Parish Hall\n\nPresentation by City of Pittston Mayor\, Michael Lombardo\n\nRegistration for the breakfast will begin at 7:45 a.m.\, followed by a breakfast buffet at 8:00 a.m. catered by Grico's Restaurant.
X-ALT-DESC;FMTTYPE=text/html:<span style="font-family:tahoma\;"><span style="font-size:14px\;">GPCC Autumn Breakfast Meeting at <span style="background-color: rgb(251\, 251\, 251)\; color: rgb(64\, 64\, 64)\; text-align: center\;">St. Joseph Marello&nbsp\;</span><span style="background-color: rgb(251\, 251\, 251)\; color: rgb(64\, 64\, 64)\; text-align: center\;">Parish Hall</span><br />\nPresentation by City of Pittston Mayor\, Michael Lombardo<br />\nRegistration for the breakfast will begin at 7:45 a.m.\, followed by a breakfast buffet at 8:00 a.m. catered by Grico&#39\;s Restaurant.&nbsp\;&nbsp\;&nbsp\;&nbsp\;&nbsp\;&nbsp\;</span></span>&nbsp\;&nbsp\;
LOCATION:St. Joseph Marello Parish Hall 241 Williams Street Pittston\, PA 18640
UID:e.2791.3863
SEQUENCE:3
DTSTAMP:20260419T172453Z
URL:https://www.pittstonchamber.org/events/details/2022-gpcc-autumn-breakfast-meeting-at-st-joseph-marello-parish-hall-pittston-3863
END:VEVENT

END:VCALENDAR
